BEGIN:VCALENDAR
VERSION:2.0
PRODID:-//HJ Kalendarium //hj.se/kalendarium
X-WR-CALDESC:Kalender från Högskolan i Jönköping
X-WR-CALNAME:HJ Kalendarium
X-WR-TIMEZONE:Europe/Stockholm
X-APPLE-CALENDAR-COLOR:#5BC2F4
CALSCALE:GREGORIAN
BEGIN:VTIMEZONE
TZID:Europe/Stockholm
BEGIN:DAYLIGHT
TZOFFSETFROM:+0100
RRULE:FREQ=YEARLY;BYMONTH=3;BYDAY=-1SU
DTSTART:19810329T020000
TZNAME:GMT+02:00
TZOFFSETTO:+0200
END:DAYLIGHT
BEGIN:STANDARD
TZOFFSETFROM:+0100
RRULE:FREQ=YEARLY;BYMONTH=10;BYDAY=-1SU
DTSTART:19961027T030000
TZNAME:GMT+01:00
TZOFFSETTO:+0100
END:STANDARD
END:VTIMEZONE
BEGIN:VEVENT
UID:11608
DTSTART:2025-03-03T08:30:00
DURATION:PT1H0M0S
DTSTAMP:20240902T102145
SUMMARY:MMTC breakfast information meeting 
DESCRIPTION;ENCODING=QUOTED-PRINTABLE:
X-GWSHOW-AS:BUSY
TRANSP:OPAQUE
STATUS:CONFIRMED
LOCATION:6th floor lounge
RESOURCES:
END:VEVENT
BEGIN:VEVENT
UID:11839
DTSTART:2025-03-03T12:00:00
DURATION:PT1H0M0S
DTSTAMP:20250123T160125
SUMMARY:CeFEO Research seminar
DESCRIPTION;ENCODING=QUOTED-PRINTABLE:
X-GWSHOW-AS:BUSY
TRANSP:OPAQUE
STATUS:CONFIRMED
LOCATION:B6046
RESOURCES:
END:VEVENT
BEGIN:VEVENT
UID:11881
DTSTART:2025-03-03T12:10:00
DURATION:PT1H0M0S
DTSTAMP:20250225T105810
SUMMARY:Brown Bag Seminar in Economics and Finance
DESCRIPTION;ENCODING=QUOTED-PRINTABLE:
X-GWSHOW-AS:BUSY
TRANSP:OPAQUE
STATUS:CONFIRMED
LOCATION:B5002
RESOURCES:
END:VEVENT
BEGIN:VEVENT
UID:11877
DTSTART:2025-03-03T13:00:00
DURATION:PT2H0M0S
DTSTAMP:20250225T101328
SUMMARY:MKV meeting
DESCRIPTION;ENCODING=QUOTED-PRINTABLE:
X-GWSHOW-AS:BUSY
TRANSP:OPAQUE
STATUS:CONFIRMED
LOCATION:Hb135
RESOURCES:
END:VEVENT
BEGIN:VEVENT
UID:11815
DTSTART:2025-03-04T12:15:00
DURATION:PT0H45M0S
DTSTAMP:20250115T164147
SUMMARY:Internships in Sweden and abroad - how to get them and where to start 
DESCRIPTION;ENCODING=QUOTED-PRINTABLE:
X-GWSHOW-AS:BUSY
TRANSP:OPAQUE
STATUS:CONFIRMED
LOCATION:B1033
RESOURCES:
END:VEVENT
BEGIN:VEVENT
UID:11868
DTSTART:2025-03-04T13:15:00
DURATION:PT0H0M0S
DTSTAMP:20250218T101504
SUMMARY:Welcome to the Doctoral Dissertation Defence of Ayesha Manzoor
DESCRIPTION;ENCODING=QUOTED-PRINTABLE:
X-GWSHOW-AS:BUSY
TRANSP:OPAQUE
STATUS:CONFIRMED
LOCATION:B1014, JIBS
RESOURCES:
END:VEVENT
BEGIN:VEVENT
UID:11632
DTSTART:2025-03-05T09:00:00
DURATION:PT3H0M0S
DTSTAMP:20241210T092943
SUMMARY:Personalmöte 1, Hälsohögskolan
DESCRIPTION;ENCODING=QUOTED-PRINTABLE:
X-GWSHOW-AS:BUSY
TRANSP:OPAQUE
STATUS:CONFIRMED
LOCATION:Forum Humanum
RESOURCES:
END:VEVENT
BEGIN:VEVENT
UID:11856
DTSTART:2025-03-05T11:00:00
DURATION:PT2H0M0S
DTSTAMP:20250207T130758
SUMMARY:Go Exchange fair on campus
DESCRIPTION;ENCODING=QUOTED-PRINTABLE:
X-GWSHOW-AS:BUSY
TRANSP:OPAQUE
STATUS:CONFIRMED
LOCATION:JTH entrance hall
RESOURCES:
END:VEVENT
BEGIN:VEVENT
UID:11855
DTSTART:2025-03-05T12:00:00
DURATION:PT1H0M0S
DTSTAMP:20250227T101928
SUMMARY:MMTC resarch Seminar presented by Anette Hill
DESCRIPTION;ENCODING=QUOTED-PRINTABLE:
X-GWSHOW-AS:BUSY
TRANSP:OPAQUE
STATUS:CONFIRMED
LOCATION:B6046 and online
RESOURCES:
END:VEVENT
BEGIN:VEVENT
UID:11460
DTSTART:2025-03-06T12:05:00
DURATION:PT0H55M0S
DTSTAMP:20241210T102249
SUMMARY:Doctoral seminar: When curiosity collides with interest and academic work: problems embedded in the global knowledge economy
DESCRIPTION;ENCODING=QUOTED-PRINTABLE:
X-GWSHOW-AS:BUSY
TRANSP:OPAQUE
STATUS:CONFIRMED
LOCATION:Hc229 and Zoom
RESOURCES:
END:VEVENT
BEGIN:VEVENT
UID:11753
DTSTART:2025-03-07T09:00:00
DURATION:PT6H0M0S
DTSTAMP:20241209T102258
SUMMARY:CCD retreat
DESCRIPTION;ENCODING=QUOTED-PRINTABLE:
X-GWSHOW-AS:BUSY
TRANSP:OPAQUE
STATUS:CONFIRMED
LOCATION:Mariedal
RESOURCES:
END:VEVENT
BEGIN:VEVENT
UID:11909
DTSTART:2025-03-07T12:00:00
DURATION:PT3H0M0S
DTSTAMP:20250306T111846
SUMMARY:EULiST Fridays for Research-evenemang om AI
DESCRIPTION;ENCODING=QUOTED-PRINTABLE:
X-GWSHOW-AS:BUSY
TRANSP:OPAQUE
STATUS:CONFIRMED
LOCATION:online
RESOURCES:
END:VEVENT
BEGIN:VEVENT
UID:11861
DTSTART:2025-03-10T12:00:00
DURATION:PT1H0M0S
DTSTAMP:20250217T095517
SUMMARY:CeFEO Research seminar
DESCRIPTION;ENCODING=QUOTED-PRINTABLE:
X-GWSHOW-AS:BUSY
TRANSP:OPAQUE
STATUS:CONFIRMED
LOCATION:B7030
RESOURCES:
END:VEVENT
BEGIN:VEVENT
UID:11816
DTSTART:2025-03-10T12:15:00
DURATION:PT0H45M0S
DTSTAMP:20250115T164312
SUMMARY:Improve your profile and start netowrking on LinkedIn!
DESCRIPTION;ENCODING=QUOTED-PRINTABLE:
X-GWSHOW-AS:BUSY
TRANSP:OPAQUE
STATUS:CONFIRMED
LOCATION:B3008
RESOURCES:
END:VEVENT
BEGIN:VEVENT
UID:11792
DTSTART:2025-03-11T13:00:00
DURATION:PT2H0M0S
DTSTAMP:20250310T140753
SUMMARY:New developments in climate change and healthcare - forging a research agenda for Sweden
DESCRIPTION;ENCODING=QUOTED-PRINTABLE:
X-GWSHOW-AS:BUSY
TRANSP:OPAQUE
STATUS:CONFIRMED
LOCATION:Ga442 or Zoom
RESOURCES:
END:VEVENT
BEGIN:VEVENT
UID:11887
DTSTART:2025-03-12T10:00:00
DURATION:PT0H30M0S
DTSTAMP:20250227T102309
SUMMARY:Join us for a fika with MMTC guest Tiantian Yang who will briefly share about her research interests. 
DESCRIPTION;ENCODING=QUOTED-PRINTABLE:
X-GWSHOW-AS:BUSY
TRANSP:OPAQUE
STATUS:CONFIRMED
LOCATION:6th floor JIBS
RESOURCES:
END:VEVENT
BEGIN:VEVENT
UID:11862
DTSTART:2025-03-12T16:00:00
DURATION:PT1H0M0S
DTSTAMP:20250217T135237
SUMMARY:Digital nätverksträff för forskning - Centrum för odontologi och oral hälsa 
DESCRIPTION;ENCODING=QUOTED-PRINTABLE:
X-GWSHOW-AS:BUSY
TRANSP:OPAQUE
STATUS:CONFIRMED
LOCATION:Zoom
RESOURCES:
END:VEVENT
BEGIN:VEVENT
UID:11869
DTSTART:2025-03-14T12:00:00
DURATION:PT0H0M0S
DTSTAMP:20250218T101752
SUMMARY:Welcome to the Doctoral Dissertation Defence of Mattias Sandgren
DESCRIPTION;ENCODING=QUOTED-PRINTABLE:
X-GWSHOW-AS:BUSY
TRANSP:OPAQUE
STATUS:CONFIRMED
LOCATION:B1014, JIBS
RESOURCES:
END:VEVENT
BEGIN:VEVENT
UID:11918
DTSTART:2025-03-17T12:10:00
DURATION:PT1H0M0S
DTSTAMP:20250311T073517
SUMMARY:Brown Bag Seminar in Economics and Finance
DESCRIPTION;ENCODING=QUOTED-PRINTABLE:
X-GWSHOW-AS:BUSY
TRANSP:OPAQUE
STATUS:CONFIRMED
LOCATION:B5002
RESOURCES:
END:VEVENT
BEGIN:VEVENT
UID:11897
DTSTART:2025-03-17T14:00:00
DURATION:PT2H0M0S
DTSTAMP:20250227T140437
SUMMARY:Net-WORK meeting
DESCRIPTION;ENCODING=QUOTED-PRINTABLE:
X-GWSHOW-AS:BUSY
TRANSP:OPAQUE
STATUS:CONFIRMED
LOCATION:
RESOURCES:
END:VEVENT
BEGIN:VEVENT
UID:11880
DTSTART:2025-03-18T10:00:00
DURATION:PT5H0M0S
DTSTAMP:20250225T105201
SUMMARY:Social Work Day
DESCRIPTION;ENCODING=QUOTED-PRINTABLE:
X-GWSHOW-AS:BUSY
TRANSP:OPAQUE
STATUS:CONFIRMED
LOCATION:Kurt Johanssons Aula, Hälsohögskolan
RESOURCES:
END:VEVENT
BEGIN:VEVENT
UID:12376
DTSTART:2025-03-19T10:00:00
DURATION:PT7H0M0S
DTSTAMP:20260205T111314
SUMMARY:Staff development day/Staff  meeting
DESCRIPTION;ENCODING=QUOTED-PRINTABLE:
X-GWSHOW-AS:BUSY
TRANSP:OPAQUE
STATUS:CONFIRMED
LOCATION:E1423
RESOURCES:
END:VEVENT
BEGIN:VEVENT
UID:11882
DTSTART:2025-03-19T12:00:00
DURATION:PT1H0M0S
DTSTAMP:20250227T102325
SUMMARY:MMTC research Seminar presented by Andrea Schneider
DESCRIPTION;ENCODING=QUOTED-PRINTABLE:
X-GWSHOW-AS:BUSY
TRANSP:OPAQUE
STATUS:CONFIRMED
LOCATION:B6046 and online
RESOURCES:
END:VEVENT
BEGIN:VEVENT
UID:12375
DTSTART:2025-03-19T13:00:00
DURATION:PT2H0M0S
DTSTAMP:20260205T110859
SUMMARY:Staff meeting
DESCRIPTION;ENCODING=QUOTED-PRINTABLE:
X-GWSHOW-AS:BUSY
TRANSP:OPAQUE
STATUS:CONFIRMED
LOCATION:E1423
RESOURCES:
END:VEVENT
BEGIN:VEVENT
UID:11766
DTSTART:2025-03-19T13:15:00
DURATION:PT1H45M0S
DTSTAMP:20241212T081924
SUMMARY:Seminarium Tema våld
DESCRIPTION;ENCODING=QUOTED-PRINTABLE:
X-GWSHOW-AS:BUSY
TRANSP:OPAQUE
STATUS:CONFIRMED
LOCATION:Ga626, Antarktis
RESOURCES:
END:VEVENT
BEGIN:VEVENT
UID:11796
DTSTART:2025-03-19T14:00:00
DURATION:PT1H0M0S
DTSTAMP:20241219T163634
SUMMARY:Co-designing an age-friendly hospital
DESCRIPTION;ENCODING=QUOTED-PRINTABLE:
X-GWSHOW-AS:BUSY
TRANSP:OPAQUE
STATUS:CONFIRMED
LOCATION:Zoom
RESOURCES:
END:VEVENT
BEGIN:VEVENT
UID:11825
DTSTART:2025-03-19T14:00:00
DURATION:PT2H0M0S
DTSTAMP:20250116T113506
SUMMARY:Staff meeting
DESCRIPTION;ENCODING=QUOTED-PRINTABLE:
X-GWSHOW-AS:BUSY
TRANSP:OPAQUE
STATUS:CONFIRMED
LOCATION:E1423
RESOURCES:
END:VEVENT
BEGIN:VEVENT
UID:11916
DTSTART:2025-03-20T09:00:00
DURATION:PT1H0M0S
DTSTAMP:20250318T083631
SUMMARY:Frukostseminarium med besök från Tanzania
DESCRIPTION;ENCODING=QUOTED-PRINTABLE:
X-GWSHOW-AS:BUSY
TRANSP:OPAQUE
STATUS:CONFIRMED
LOCATION:Ga829, Ali Berggren
RESOURCES:
END:VEVENT
BEGIN:VEVENT
UID:11580
DTSTART:2025-03-21T09:00:00
DURATION:PT6H0M0S
DTSTAMP:20240827T110810
SUMMARY:Rektorsakademin Träff 4
DESCRIPTION;ENCODING=QUOTED-PRINTABLE:
X-GWSHOW-AS:BUSY
TRANSP:OPAQUE
STATUS:CONFIRMED
LOCATION:HLK
RESOURCES:
END:VEVENT
BEGIN:VEVENT
UID:11754
DTSTART:2025-03-21T13:00:00
DURATION:PT2H0M0S
DTSTAMP:20250318T085446
SUMMARY:CCD working papers seminar - INSTÄLLT!
DESCRIPTION;ENCODING=QUOTED-PRINTABLE:
X-GWSHOW-AS:BUSY
TRANSP:OPAQUE
STATUS:CONFIRMED
LOCATION:Hc229 och Zoom
RESOURCES:
END:VEVENT
BEGIN:VEVENT
UID:11664
DTSTART:2025-03-22T10:00:00
DURATION:PT4H0M0S
DTSTAMP:20241004T134135
SUMMARY:Open Day at Jönköping University 
DESCRIPTION;ENCODING=QUOTED-PRINTABLE:
X-GWSHOW-AS:BUSY
TRANSP:OPAQUE
STATUS:CONFIRMED
LOCATION:Jönköping University
RESOURCES:
END:VEVENT
BEGIN:VEVENT
UID:11900
DTSTART:2025-03-23T16:00:00
DURATION:PT1H30M0S
DTSTAMP:20250305T090457
SUMMARY:Sista anmälningsdag till Mindfulness-kurs!
DESCRIPTION;ENCODING=QUOTED-PRINTABLE:
X-GWSHOW-AS:BUSY
TRANSP:OPAQUE
STATUS:CONFIRMED
LOCATION:Hus K
RESOURCES:
END:VEVENT
BEGIN:VEVENT
UID:11922
DTSTART:2025-03-23T18:00:00
DURATION:PT1H0M0S
DTSTAMP:20250318T102244
SUMMARY:Welcome to a choral concert with the Academic Choir JUVE
DESCRIPTION;ENCODING=QUOTED-PRINTABLE:
X-GWSHOW-AS:BUSY
TRANSP:OPAQUE
STATUS:CONFIRMED
LOCATION:Sofia Church
RESOURCES:
END:VEVENT
BEGIN:VEVENT
UID:11921
DTSTART:2025-03-24T12:10:00
DURATION:PT1H0M0S
DTSTAMP:20250318T095439
SUMMARY:Brown Bag Seminar in Economics and Finance
DESCRIPTION;ENCODING=QUOTED-PRINTABLE:
X-GWSHOW-AS:BUSY
TRANSP:OPAQUE
STATUS:CONFIRMED
LOCATION:B5002
RESOURCES:
END:VEVENT
BEGIN:VEVENT
UID:11740
DTSTART:2025-03-24T13:15:00
DURATION:PT2H45M0S
DTSTAMP:20241203T090425
SUMMARY:Council of Undergraduate and Master Education (CUME)
DESCRIPTION;ENCODING=QUOTED-PRINTABLE:
X-GWSHOW-AS:BUSY
TRANSP:OPAQUE
STATUS:CONFIRMED
LOCATION:Contact Helena Holmström
RESOURCES:
END:VEVENT
BEGIN:VEVENT
UID:11870
DTSTART:2025-03-25T14:00:00
DURATION:PT2H0M0S
DTSTAMP:20250220T141034
SUMMARY:Final Seminar in Business Administration by Erika Arevalo at JIBS
DESCRIPTION;ENCODING=QUOTED-PRINTABLE:
X-GWSHOW-AS:BUSY
TRANSP:OPAQUE
STATUS:CONFIRMED
LOCATION:online zoom
RESOURCES:
END:VEVENT
BEGIN:VEVENT
UID:11780
DTSTART:2025-03-25T15:00:00
DURATION:PT1H30M0S
DTSTAMP:20241216T111134
SUMMARY:PUF Textseminarium (hybrid)
DESCRIPTION;ENCODING=QUOTED-PRINTABLE:
X-GWSHOW-AS:BUSY
TRANSP:OPAQUE
STATUS:CONFIRMED
LOCATION:Ha 208 
RESOURCES:
END:VEVENT
BEGIN:VEVENT
UID:11784
DTSTART:2025-03-25T15:00:00
DURATION:PT1H30M0S
DTSTAMP:20241216T111703
SUMMARY:PUF Textseminarium (hybrid)
DESCRIPTION;ENCODING=QUOTED-PRINTABLE:
X-GWSHOW-AS:BUSY
TRANSP:OPAQUE
STATUS:CONFIRMED
LOCATION:Ha 208 
RESOURCES:
END:VEVENT
BEGIN:VEVENT
UID:11638
DTSTART:2025-03-26T09:00:00
DURATION:PT1H0M0S
DTSTAMP:20240920T101947
SUMMARY:Gemensamhetsfika
DESCRIPTION;ENCODING=QUOTED-PRINTABLE:
X-GWSHOW-AS:BUSY
TRANSP:OPAQUE
STATUS:CONFIRMED
LOCATION:Mat & Café Campus
RESOURCES:
END:VEVENT
BEGIN:VEVENT
UID:11888
DTSTART:2025-03-26T12:00:00
DURATION:PT1H0M0S
DTSTAMP:20250227T102429
SUMMARY:MMTC Sustainability working group
DESCRIPTION;ENCODING=QUOTED-PRINTABLE:
X-GWSHOW-AS:BUSY
TRANSP:OPAQUE
STATUS:CONFIRMED
LOCATION:B6046
RESOURCES:
END:VEVENT
BEGIN:VEVENT
UID:11585
DTSTART:2025-03-27T09:00:00
DURATION:PT6H0M0S
DTSTAMP:20240827T110738
SUMMARY:Förstelärarakademin Träff 3
DESCRIPTION;ENCODING=QUOTED-PRINTABLE:
X-GWSHOW-AS:BUSY
TRANSP:OPAQUE
STATUS:CONFIRMED
LOCATION:HLK
RESOURCES:
END:VEVENT
BEGIN:VEVENT
UID:11461
DTSTART:2025-03-27T12:05:00
DURATION:PT0H55M0S
DTSTAMP:20250306T143440
SUMMARY:Doctoral seminar: EndNote
DESCRIPTION;ENCODING=QUOTED-PRINTABLE:
X-GWSHOW-AS:BUSY
TRANSP:OPAQUE
STATUS:CONFIRMED
LOCATION:Hc229 and Zoom
RESOURCES:
END:VEVENT
BEGIN:VEVENT
UID:11831
DTSTART:2025-03-27T16:00:00
DURATION:PT1H0M0S
DTSTAMP:20250319T135541
SUMMARY:JU LIVE - Artificiell intelligens: Nobelpris, "fake news"och framtidens science fiction
DESCRIPTION;ENCODING=QUOTED-PRINTABLE:
X-GWSHOW-AS:BUSY
TRANSP:OPAQUE
STATUS:CONFIRMED
LOCATION:Högskolebiblioteket
RESOURCES:
END:VEVENT
BEGIN:VEVENT
UID:11800
DTSTART:2025-03-28T14:00:00
DURATION:PT2H0M0S
DTSTAMP:20250326T075821
SUMMARY:Välkommen till Vem ropar för Alvar - filmvisning och filmsamtal
DESCRIPTION;ENCODING=QUOTED-PRINTABLE:
X-GWSHOW-AS:BUSY
TRANSP:OPAQUE
STATUS:CONFIRMED
LOCATION:Ga529
RESOURCES:
END:VEVENT
BEGIN:VEVENT
UID:11928
DTSTART:2025-03-31T12:10:00
DURATION:PT1H0M0S
DTSTAMP:20250325T074605
SUMMARY:Brown Bag Seminar in Economics and Finance
DESCRIPTION;ENCODING=QUOTED-PRINTABLE:
X-GWSHOW-AS:BUSY
TRANSP:OPAQUE
STATUS:CONFIRMED
LOCATION:B5002
RESOURCES:
END:VEVENT
BEGIN:VEVENT
UID:11769
DTSTART:2025-03-31T14:15:00
DURATION:PT1H15M0S
DTSTAMP:20241212T131836
SUMMARY:Forskningsråd
DESCRIPTION;ENCODING=QUOTED-PRINTABLE:
X-GWSHOW-AS:BUSY
TRANSP:OPAQUE
STATUS:CONFIRMED
LOCATION:Ha208
RESOURCES:
END:VEVENT
END:VCALENDAR