BEGIN:VCALENDAR
VERSION:2.0
PRODID:-//HJ Kalendarium //hj.se/kalendarium
X-WR-CALDESC:Kalender från Högskolan i Jönköping
X-WR-CALNAME:HJ Kalendarium
X-WR-TIMEZONE:Europe/Stockholm
X-APPLE-CALENDAR-COLOR:#5BC2F4
CALSCALE:GREGORIAN
BEGIN:VTIMEZONE
TZID:Europe/Stockholm
BEGIN:DAYLIGHT
TZOFFSETFROM:+0100
RRULE:FREQ=YEARLY;BYMONTH=3;BYDAY=-1SU
DTSTART:19810329T020000
TZNAME:GMT+02:00
TZOFFSETTO:+0200
END:DAYLIGHT
BEGIN:STANDARD
TZOFFSETFROM:+0100
RRULE:FREQ=YEARLY;BYMONTH=10;BYDAY=-1SU
DTSTART:19961027T030000
TZNAME:GMT+01:00
TZOFFSETTO:+0100
END:STANDARD
END:VTIMEZONE
BEGIN:VEVENT
UID:12247
DTSTART:2026-03-02T08:30:00
DURATION:PT1H0M0S
DTSTAMP:20251110T144514
SUMMARY:MMTC breakfast meeting
DESCRIPTION;ENCODING=QUOTED-PRINTABLE:
X-GWSHOW-AS:BUSY
TRANSP:OPAQUE
STATUS:CONFIRMED
LOCATION:6th floor JIBS
RESOURCES:
END:VEVENT
BEGIN:VEVENT
UID:12347
DTSTART:2026-03-02T12:15:00
DURATION:PT0H45M0S
DTSTAMP:20260130T125728
SUMMARY:Internships in Sweden and abroad
DESCRIPTION;ENCODING=QUOTED-PRINTABLE:
X-GWSHOW-AS:BUSY
TRANSP:OPAQUE
STATUS:CONFIRMED
LOCATION:B1033
RESOURCES:
END:VEVENT
BEGIN:VEVENT
UID:12096
DTSTART:2026-03-02T13:00:00
DURATION:PT3H0M0S
DTSTAMP:20250902T105224
SUMMARY:MKV workshop
DESCRIPTION;ENCODING=QUOTED-PRINTABLE:
X-GWSHOW-AS:BUSY
TRANSP:OPAQUE
STATUS:CONFIRMED
LOCATION:Hb135
RESOURCES:
END:VEVENT
BEGIN:VEVENT
UID:12206
DTSTART:2026-03-02T14:15:00
DURATION:PT0H45M0S
DTSTAMP:20251023T094946
SUMMARY:Forskningsråd
DESCRIPTION;ENCODING=QUOTED-PRINTABLE:
X-GWSHOW-AS:BUSY
TRANSP:OPAQUE
STATUS:CONFIRMED
LOCATION:Teams
RESOURCES:
END:VEVENT
BEGIN:VEVENT
UID:12374
DTSTART:2026-03-03T14:00:00
DURATION:PT1H0M0S
DTSTAMP:20260205T080504
SUMMARY:Helena Kilanders docentföreläsning
DESCRIPTION;ENCODING=QUOTED-PRINTABLE:
X-GWSHOW-AS:BUSY
TRANSP:OPAQUE
STATUS:CONFIRMED
LOCATION:Ga931
RESOURCES:
END:VEVENT
BEGIN:VEVENT
UID:12302
DTSTART:2026-03-04T13:00:00
DURATION:PT2H0M0S
DTSTAMP:20251210T083313
SUMMARY:Tematräff Lipödem
DESCRIPTION;ENCODING=QUOTED-PRINTABLE:
X-GWSHOW-AS:BUSY
TRANSP:OPAQUE
STATUS:CONFIRMED
LOCATION:Ga626 Antarktis
RESOURCES:
END:VEVENT
BEGIN:VEVENT
UID:12230
DTSTART:2026-03-04T13:15:00
DURATION:PT1H30M0S
DTSTAMP:20260220T105238
SUMMARY:MMTCs DMI Research Seminar - Models, Misfires, and Meaningful Nulls: Computational Explorations in Platform Governance Research
DESCRIPTION;ENCODING=QUOTED-PRINTABLE:
X-GWSHOW-AS:BUSY
TRANSP:OPAQUE
STATUS:CONFIRMED
LOCATION:Online-contact for zoom link
RESOURCES:
END:VEVENT
BEGIN:VEVENT
UID:12273
DTSTART:2026-03-04T13:15:00
DURATION:PT2H45M0S
DTSTAMP:20251205T083625
SUMMARY:Council of Undergraduate and Master Education (CUME)
DESCRIPTION;ENCODING=QUOTED-PRINTABLE:
X-GWSHOW-AS:BUSY
TRANSP:OPAQUE
STATUS:CONFIRMED
LOCATION:A4301 - Solon
RESOURCES:
END:VEVENT
BEGIN:VEVENT
UID:12382
DTSTART:2026-03-04T14:00:00
DURATION:PT2H30M0S
DTSTAMP:20260211T131301
SUMMARY:Systematisk ledarskapsutveckling i praktiken: Sex verksamheters erfarenheter
DESCRIPTION;ENCODING=QUOTED-PRINTABLE:
X-GWSHOW-AS:BUSY
TRANSP:OPAQUE
STATUS:CONFIRMED
LOCATION:Science Park, Jönköping
RESOURCES:
END:VEVENT
BEGIN:VEVENT
UID:12358
DTSTART:2026-03-06T09:00:00
DURATION:PT3H0M0S
DTSTAMP:20260206T112849
SUMMARY:Dissertation Defence - Rohith Areth Koroth
DESCRIPTION;ENCODING=QUOTED-PRINTABLE:
X-GWSHOW-AS:BUSY
TRANSP:OPAQUE
STATUS:CONFIRMED
LOCATION:E1405 (Gjuterisalen)
RESOURCES:
END:VEVENT
BEGIN:VEVENT
UID:12380
DTSTART:2026-03-09T10:00:00
DURATION:PT2H0M0S
DTSTAMP:20260305T162343
SUMMARY:Planeringsseminarium - Xenia Panayot - INSTÄLLT! Nytt datum 10 april.
DESCRIPTION;ENCODING=QUOTED-PRINTABLE:
X-GWSHOW-AS:BUSY
TRANSP:OPAQUE
STATUS:CONFIRMED
LOCATION:Ha208 och Zoom
RESOURCES:
END:VEVENT
BEGIN:VEVENT
UID:12395
DTSTART:2026-03-09T12:10:00
DURATION:PT1H0M0S
DTSTAMP:20260302T100941
SUMMARY:Brown Bag Seminar in Economics and Finance
DESCRIPTION;ENCODING=QUOTED-PRINTABLE:
X-GWSHOW-AS:BUSY
TRANSP:OPAQUE
STATUS:CONFIRMED
LOCATION:B5002
RESOURCES:
END:VEVENT
BEGIN:VEVENT
UID:12400
DTSTART:2026-03-09T12:15:00
DURATION:PT1H15M0S
DTSTAMP:20260309T084629
SUMMARY:Föreläsning av Martin Melin - Barn i kriminalitet
DESCRIPTION;ENCODING=QUOTED-PRINTABLE:
X-GWSHOW-AS:BUSY
TRANSP:OPAQUE
STATUS:CONFIRMED
LOCATION:Hc218
RESOURCES:
END:VEVENT
BEGIN:VEVENT
UID:12351
DTSTART:2026-03-09T16:00:00
DURATION:PT1H30M0S
DTSTAMP:20260130T131416
SUMMARY:CV-photography for JU-students
DESCRIPTION;ENCODING=QUOTED-PRINTABLE:
X-GWSHOW-AS:BUSY
TRANSP:OPAQUE
STATUS:CONFIRMED
LOCATION:Campus Arena
RESOURCES:
END:VEVENT
BEGIN:VEVENT
UID:12398
DTSTART:2026-03-10T09:00:00
DURATION:PT3H0M0S
DTSTAMP:20260305T131829
SUMMARY:Personalfotografering för Hälsohögskolan
DESCRIPTION;ENCODING=QUOTED-PRINTABLE:
X-GWSHOW-AS:BUSY
TRANSP:OPAQUE
STATUS:CONFIRMED
LOCATION:Plan 8, HHJ
RESOURCES:
END:VEVENT
BEGIN:VEVENT
UID:12175
DTSTART:2026-03-10T12:00:00
DURATION:PT4H0M0S
DTSTAMP:20260306T124300
SUMMARY:JTH Research Pitch Day
DESCRIPTION;ENCODING=QUOTED-PRINTABLE:
X-GWSHOW-AS:BUSY
TRANSP:OPAQUE
STATUS:CONFIRMED
LOCATION:Galleriet
RESOURCES:
END:VEVENT
BEGIN:VEVENT
UID:12388
DTSTART:2026-03-11T11:00:00
DURATION:PT1H0M0S
DTSTAMP:20260219T085208
SUMMARY:Trial lecture for appointment as Associate Professor - Paraskeva Wlazlak
DESCRIPTION;ENCODING=QUOTED-PRINTABLE:
X-GWSHOW-AS:BUSY
TRANSP:OPAQUE
STATUS:CONFIRMED
LOCATION:E1405 (Gjuterisalen)
RESOURCES:
END:VEVENT
BEGIN:VEVENT
UID:12394
DTSTART:2026-03-11T11:00:00
DURATION:PT2H0M0S
DTSTAMP:20260227T143729
SUMMARY:Go Exchange fair on campus
DESCRIPTION;ENCODING=QUOTED-PRINTABLE:
X-GWSHOW-AS:BUSY
TRANSP:OPAQUE
STATUS:CONFIRMED
LOCATION:JTH entrance hall
RESOURCES:
END:VEVENT
BEGIN:VEVENT
UID:12184
DTSTART:2026-03-12T12:05:00
DURATION:PT0H55M0S
DTSTAMP:20251017T111807
SUMMARY:Doctoral seminar: Impactful Research: Your Role in Engaging with Society
DESCRIPTION;ENCODING=QUOTED-PRINTABLE:
X-GWSHOW-AS:BUSY
TRANSP:OPAQUE
STATUS:CONFIRMED
LOCATION:Hc229 och Zoom
RESOURCES:
END:VEVENT
BEGIN:VEVENT
UID:12319
DTSTART:2026-03-12T13:00:00
DURATION:PT1H30M0S
DTSTAMP:20260114T093455
SUMMARY:Insights from the ENHANCE Alliance and the ENHANCE Degree Label
DESCRIPTION;ENCODING=QUOTED-PRINTABLE:
X-GWSHOW-AS:BUSY
TRANSP:OPAQUE
STATUS:CONFIRMED
LOCATION:School of Engineering
RESOURCES:
END:VEVENT
BEGIN:VEVENT
UID:12126
DTSTART:2026-03-14T10:00:00
DURATION:PT4H0M0S
DTSTAMP:20250916T082952
SUMMARY:Open Day at Jönköping University
DESCRIPTION;ENCODING=QUOTED-PRINTABLE:
X-GWSHOW-AS:BUSY
TRANSP:OPAQUE
STATUS:CONFIRMED
LOCATION:Jönköping University
RESOURCES:
END:VEVENT
BEGIN:VEVENT
UID:12393
DTSTART:2026-03-17T09:30:00
DURATION:PT6H0M0S
DTSTAMP:20260227T122907
SUMMARY:World Social Work Day - Sociala problem och insatser i nutid
DESCRIPTION;ENCODING=QUOTED-PRINTABLE:
X-GWSHOW-AS:BUSY
TRANSP:OPAQUE
STATUS:CONFIRMED
LOCATION:Kurt Johansson-aulan, Hälsohögskolan
RESOURCES:
END:VEVENT
BEGIN:VEVENT
UID:12264
DTSTART:2026-03-17T13:00:00
DURATION:PT2H0M0S
DTSTAMP:20251208T154226
SUMMARY:Halvtidsseminarium - Annika Wappelhorst
DESCRIPTION;ENCODING=QUOTED-PRINTABLE:
X-GWSHOW-AS:BUSY
TRANSP:OPAQUE
STATUS:CONFIRMED
LOCATION:Ha208 och Zoom
RESOURCES:
END:VEVENT
BEGIN:VEVENT
UID:12371
DTSTART:2026-03-18T10:00:00
DURATION:PT4H0M0S
DTSTAMP:20260216T110346
SUMMARY:Doctoral student and supervisor day 2026
DESCRIPTION;ENCODING=QUOTED-PRINTABLE:
X-GWSHOW-AS:BUSY
TRANSP:OPAQUE
STATUS:CONFIRMED
LOCATION:
RESOURCES:
END:VEVENT
BEGIN:VEVENT
UID:12237
DTSTART:2026-03-18T12:00:00
DURATION:PT1H0M0S
DTSTAMP:20251110T143441
SUMMARY:MMTC research Seminar 
DESCRIPTION;ENCODING=QUOTED-PRINTABLE:
X-GWSHOW-AS:BUSY
TRANSP:OPAQUE
STATUS:CONFIRMED
LOCATION:B6046 and online
RESOURCES:
END:VEVENT
BEGIN:VEVENT
UID:12390
DTSTART:2026-03-18T12:00:00
DURATION:PT1H0M0S
DTSTAMP:20260225T101551
SUMMARY:MMTC research Seminar presented by Lucia Pizzichini - Tourist Sport Engagement in the Phygital Era: Linking Digital Sport Technologies and Revisit Intention
DESCRIPTION;ENCODING=QUOTED-PRINTABLE:
X-GWSHOW-AS:BUSY
TRANSP:OPAQUE
STATUS:CONFIRMED
LOCATION:B6046 and online
RESOURCES:
END:VEVENT
BEGIN:VEVENT
UID:12373
DTSTART:2026-03-18T14:00:00
DURATION:PT1H0M0S
DTSTAMP:20260317T094539
SUMMARY:Seminar: Two approaches to meaning-making for leading co-production - creating a holding environment for multi-stakeholder change processes
DESCRIPTION;ENCODING=QUOTED-PRINTABLE:
X-GWSHOW-AS:BUSY
TRANSP:OPAQUE
STATUS:CONFIRMED
LOCATION:Zoom
RESOURCES:
END:VEVENT
BEGIN:VEVENT
UID:12408
DTSTART:2026-03-19T08:00:00
DURATION:PT8H0M0S
DTSTAMP:20260317T130123
SUMMARY:Förstelärarnas dag
DESCRIPTION;ENCODING=QUOTED-PRINTABLE:
X-GWSHOW-AS:BUSY
TRANSP:OPAQUE
STATUS:CONFIRMED
LOCATION:JU-aulan
RESOURCES:
END:VEVENT
BEGIN:VEVENT
UID:12363
DTSTART:2026-03-19T12:30:00
DURATION:PT2H30M0S
DTSTAMP:20260202T111957
SUMMARY:Final Seminar: Pontus Wallin, Doctoral Student in Welfare and Social Sciences
DESCRIPTION;ENCODING=QUOTED-PRINTABLE:
X-GWSHOW-AS:BUSY
TRANSP:OPAQUE
STATUS:CONFIRMED
LOCATION:Kappan
RESOURCES:
END:VEVENT
BEGIN:VEVENT
UID:12362
DTSTART:2026-03-19T15:00:00
DURATION:PT2H0M0S
DTSTAMP:20260316T114743
SUMMARY:Midway seminar Karl Oskar Björkman, PhD student within Health and Care Sciences
DESCRIPTION;ENCODING=QUOTED-PRINTABLE:
X-GWSHOW-AS:BUSY
TRANSP:OPAQUE
STATUS:CONFIRMED
LOCATION:Kappan
RESOURCES:
END:VEVENT
BEGIN:VEVENT
UID:12403
DTSTART:2026-03-20T10:00:00
DURATION:PT3H0M0S
DTSTAMP:20260310T093337
SUMMARY:Dialogue Lunch at the School of Health and Welfare
DESCRIPTION;ENCODING=QUOTED-PRINTABLE:
X-GWSHOW-AS:BUSY
TRANSP:OPAQUE
STATUS:CONFIRMED
LOCATION:Ga 626 (HHJ)
RESOURCES:
END:VEVENT
BEGIN:VEVENT
UID:12417
DTSTART:2026-03-20T14:00:00
DURATION:PT1H0M0S
DTSTAMP:20260331T083040
SUMMARY:Docentföreläsning med Sandra Karlsson
DESCRIPTION;ENCODING=QUOTED-PRINTABLE:
X-GWSHOW-AS:BUSY
TRANSP:OPAQUE
STATUS:CONFIRMED
LOCATION:Ga334
RESOURCES:
END:VEVENT
BEGIN:VEVENT
UID:12418
DTSTART:2026-03-20T14:00:00
DURATION:PT1H0M0S
DTSTAMP:20260331T083047
SUMMARY:Docentföreläsning med Sandra Karlsson
DESCRIPTION;ENCODING=QUOTED-PRINTABLE:
X-GWSHOW-AS:BUSY
TRANSP:OPAQUE
STATUS:CONFIRMED
LOCATION:Ga334
RESOURCES:
END:VEVENT
BEGIN:VEVENT
UID:12407
DTSTART:2026-03-23T12:10:00
DURATION:PT1H0M0S
DTSTAMP:20260316T135239
SUMMARY:Brown Bag Seminar in Economics and Finance
DESCRIPTION;ENCODING=QUOTED-PRINTABLE:
X-GWSHOW-AS:BUSY
TRANSP:OPAQUE
STATUS:CONFIRMED
LOCATION:B5002
RESOURCES:
END:VEVENT
BEGIN:VEVENT
UID:12397
DTSTART:2026-03-24T09:00:00
DURATION:PT6H0M0S
DTSTAMP:20260304T153912
SUMMARY:Hälsohögskolans ledningsgrupp 
DESCRIPTION;ENCODING=QUOTED-PRINTABLE:
X-GWSHOW-AS:BUSY
TRANSP:OPAQUE
STATUS:CONFIRMED
LOCATION:Mariedal
RESOURCES:
END:VEVENT
BEGIN:VEVENT
UID:12286
DTSTART:2026-03-25T09:00:00
DURATION:PT3H0M0S
DTSTAMP:20251205T082826
SUMMARY:Council of Undergraduate and Master Education (CUME)
DESCRIPTION;ENCODING=QUOTED-PRINTABLE:
X-GWSHOW-AS:BUSY
TRANSP:OPAQUE
STATUS:CONFIRMED
LOCATION:B7030
RESOURCES:
END:VEVENT
BEGIN:VEVENT
UID:12404
DTSTART:2026-03-25T10:00:00
DURATION:PT1H0M0S
DTSTAMP:20260310T101851
SUMMARY:Föreläsning på Jönköpings Stadsbibliotek - Digitala (o)möjligheter - om delaktighet, teknik och Daglig Digital Motion
DESCRIPTION;ENCODING=QUOTED-PRINTABLE:
X-GWSHOW-AS:BUSY
TRANSP:OPAQUE
STATUS:CONFIRMED
LOCATION:Jönköpings stadsbibliotek
RESOURCES:
END:VEVENT
BEGIN:VEVENT
UID:12195
DTSTART:2026-03-26T09:00:00
DURATION:PT1H0M0S
DTSTAMP:20260318T095838
SUMMARY:Hälsohögskolans gemensamhetsfika
DESCRIPTION;ENCODING=QUOTED-PRINTABLE:
X-GWSHOW-AS:BUSY
TRANSP:OPAQUE
STATUS:CONFIRMED
LOCATION:Café Mat och Campus
RESOURCES:
END:VEVENT
BEGIN:VEVENT
UID:12341
DTSTART:2026-03-26T16:00:00
DURATION:PT1H0M0S
DTSTAMP:20260129T131559
SUMMARY:JU LIVE - Att överleva kriget är bara början - om amputation och vägen tillbaka till livet i Ukraina
DESCRIPTION;ENCODING=QUOTED-PRINTABLE:
X-GWSHOW-AS:BUSY
TRANSP:OPAQUE
STATUS:CONFIRMED
LOCATION:Högskolebiblioteket
RESOURCES:
END:VEVENT
BEGIN:VEVENT
UID:12386
DTSTART:2026-03-27T10:00:00
DURATION:PT2H0M0S
DTSTAMP:20260217T083333
SUMMARY:Slutseminarium - Britt-Marie Leivik Knowles
DESCRIPTION;ENCODING=QUOTED-PRINTABLE:
X-GWSHOW-AS:BUSY
TRANSP:OPAQUE
STATUS:CONFIRMED
LOCATION:Hb135
RESOURCES:
END:VEVENT
BEGIN:VEVENT
UID:12389
DTSTART:2026-03-30T12:00:00
DURATION:PT1H0M0S
DTSTAMP:20260225T095325
SUMMARY:MMTC and CeFEO joint seminar
DESCRIPTION;ENCODING=QUOTED-PRINTABLE:
X-GWSHOW-AS:BUSY
TRANSP:OPAQUE
STATUS:CONFIRMED
LOCATION:Online-contact for zoom link
RESOURCES:
END:VEVENT
BEGIN:VEVENT
UID:12207
DTSTART:2026-03-30T14:15:00
DURATION:PT1H15M0S
DTSTAMP:20251023T095014
SUMMARY:Forskningsråd
DESCRIPTION;ENCODING=QUOTED-PRINTABLE:
X-GWSHOW-AS:BUSY
TRANSP:OPAQUE
STATUS:CONFIRMED
LOCATION:Ha208
RESOURCES:
END:VEVENT
END:VCALENDAR