BEGIN:VCALENDAR
VERSION:2.0
PRODID:-//HJ Kalendarium //hj.se/kalendarium
X-WR-CALDESC:Kalender från Högskolan i Jönköping
X-WR-CALNAME:HJ Kalendarium
X-WR-TIMEZONE:Europe/Stockholm
X-APPLE-CALENDAR-COLOR:#5BC2F4
CALSCALE:GREGORIAN
BEGIN:VTIMEZONE
TZID:Europe/Stockholm
BEGIN:DAYLIGHT
TZOFFSETFROM:+0100
RRULE:FREQ=YEARLY;BYMONTH=3;BYDAY=-1SU
DTSTART:19810329T020000
TZNAME:GMT+02:00
TZOFFSETTO:+0200
END:DAYLIGHT
BEGIN:STANDARD
TZOFFSETFROM:+0100
RRULE:FREQ=YEARLY;BYMONTH=10;BYDAY=-1SU
DTSTART:19961027T030000
TZNAME:GMT+01:00
TZOFFSETTO:+0100
END:STANDARD
END:VTIMEZONE
BEGIN:VEVENT
UID:11920
DTSTART:2025-04-01T10:00:00
DURATION:PT1H0M0S
DTSTAMP:20250313T082241
SUMMARY:CeNSE Seminar
DESCRIPTION;ENCODING=QUOTED-PRINTABLE:
X-GWSHOW-AS:BUSY
TRANSP:OPAQUE
STATUS:CONFIRMED
LOCATION:B5002
RESOURCES:
END:VEVENT
BEGIN:VEVENT
UID:11889
DTSTART:2025-04-01T12:00:00
DURATION:PT1H0M0S
DTSTAMP:20250227T102534
SUMMARY:MMTC Digitalisation, Innovation and Transformation group
DESCRIPTION;ENCODING=QUOTED-PRINTABLE:
X-GWSHOW-AS:BUSY
TRANSP:OPAQUE
STATUS:CONFIRMED
LOCATION:B6046
RESOURCES:
END:VEVENT
BEGIN:VEVENT
UID:11931
DTSTART:2025-04-01T12:00:00
DURATION:PT3H0M0S
DTSTAMP:20250326T191439
SUMMARY:Take a HIV-test for free at The Student Health Care!
DESCRIPTION;ENCODING=QUOTED-PRINTABLE:
X-GWSHOW-AS:BUSY
TRANSP:OPAQUE
STATUS:CONFIRMED
LOCATION:Student Health Care
RESOURCES:
END:VEVENT
BEGIN:VEVENT
UID:11817
DTSTART:2025-04-01T12:15:00
DURATION:PT0H45M0S
DTSTAMP:20250115T164424
SUMMARY:Job hunting and networking
DESCRIPTION;ENCODING=QUOTED-PRINTABLE:
X-GWSHOW-AS:BUSY
TRANSP:OPAQUE
STATUS:CONFIRMED
LOCATION:Hb116
RESOURCES:
END:VEVENT
BEGIN:VEVENT
UID:11878
DTSTART:2025-04-01T13:00:00
DURATION:PT2H0M0S
DTSTAMP:20250225T101405
SUMMARY:MKV meeting
DESCRIPTION;ENCODING=QUOTED-PRINTABLE:
X-GWSHOW-AS:BUSY
TRANSP:OPAQUE
STATUS:CONFIRMED
LOCATION:Hb135
RESOURCES:
END:VEVENT
BEGIN:VEVENT
UID:11791
DTSTART:2025-04-01T15:00:00
DURATION:PT1H30M0S
DTSTAMP:20250305T083953
SUMMARY:Seminarium på Jönköping Academy - Fokus Improvement science 
DESCRIPTION;ENCODING=QUOTED-PRINTABLE:
X-GWSHOW-AS:BUSY
TRANSP:OPAQUE
STATUS:CONFIRMED
LOCATION:Zoom
RESOURCES:
END:VEVENT
BEGIN:VEVENT
UID:11818
DTSTART:2025-04-02T12:15:00
DURATION:PT0H45M0S
DTSTAMP:20250115T164529
SUMMARY:Write a winning job application 
DESCRIPTION;ENCODING=QUOTED-PRINTABLE:
X-GWSHOW-AS:BUSY
TRANSP:OPAQUE
STATUS:CONFIRMED
LOCATION:Hb116
RESOURCES:
END:VEVENT
BEGIN:VEVENT
UID:11914
DTSTART:2025-04-02T13:00:00
DURATION:PT2H0M0S
DTSTAMP:20250312T142509
SUMMARY:JIBS Entrepreneurship Challenge Grand Final 2025
DESCRIPTION;ENCODING=QUOTED-PRINTABLE:
X-GWSHOW-AS:BUSY
TRANSP:OPAQUE
STATUS:CONFIRMED
LOCATION:Munksjöaulan B1033 (JIBS)
RESOURCES:
END:VEVENT
BEGIN:VEVENT
UID:11886
DTSTART:2025-04-02T13:15:00
DURATION:PT1H30M0S
DTSTAMP:20250225T131359
SUMMARY:Data Methods Initiative seminar presented by Andrea Voyer
DESCRIPTION;ENCODING=QUOTED-PRINTABLE:
X-GWSHOW-AS:BUSY
TRANSP:OPAQUE
STATUS:CONFIRMED
LOCATION:Online-contact for zoom link
RESOURCES:
END:VEVENT
BEGIN:VEVENT
UID:11912
DTSTART:2025-04-02T14:00:00
DURATION:PT1H0M0S
DTSTAMP:20250306T140952
SUMMARY:Docentföreläsning i pedagogik med inriktning mot tillämpad IT - Maria Bäcke
DESCRIPTION;ENCODING=QUOTED-PRINTABLE:
X-GWSHOW-AS:BUSY
TRANSP:OPAQUE
STATUS:CONFIRMED
LOCATION:Hc218
RESOURCES:
END:VEVENT
BEGIN:VEVENT
UID:11934
DTSTART:2025-04-03T08:15:00
DURATION:PT1H0M0S
DTSTAMP:20250331T083812
SUMMARY:Understanding PMI - A Key to Economic Analysis 
DESCRIPTION;ENCODING=QUOTED-PRINTABLE:
X-GWSHOW-AS:BUSY
TRANSP:OPAQUE
STATUS:CONFIRMED
LOCATION:B1024, Jönköping International Business School
RESOURCES:
END:VEVENT
BEGIN:VEVENT
UID:11819
DTSTART:2025-04-03T12:15:00
DURATION:PT0H45M0S
DTSTAMP:20250115T164634
SUMMARY:Nailing the job interview 
DESCRIPTION;ENCODING=QUOTED-PRINTABLE:
X-GWSHOW-AS:BUSY
TRANSP:OPAQUE
STATUS:CONFIRMED
LOCATION:Hb116
RESOURCES:
END:VEVENT
BEGIN:VEVENT
UID:11857
DTSTART:2025-04-04T09:00:00
DURATION:PT2H0M0S
DTSTAMP:20250402T094850
SUMMARY:Licentiate seminar - Ziyu Li
DESCRIPTION;ENCODING=QUOTED-PRINTABLE:
X-GWSHOW-AS:BUSY
TRANSP:OPAQUE
STATUS:CONFIRMED
LOCATION:E1405 (Gjuterisalen)
RESOURCES:
END:VEVENT
BEGIN:VEVENT
UID:11896
DTSTART:2025-04-04T09:00:00
DURATION:PT2H0M0S
DTSTAMP:20250227T134409
SUMMARY:Licentiate seminar - Ziyu Li
DESCRIPTION;ENCODING=QUOTED-PRINTABLE:
X-GWSHOW-AS:BUSY
TRANSP:OPAQUE
STATUS:CONFIRMED
LOCATION:E1405 (Gjuterisalen)
RESOURCES:
END:VEVENT
BEGIN:VEVENT
UID:11730
DTSTART:2025-04-07T08:30:00
DURATION:PT7H30M0S
DTSTAMP:20241121T153517
SUMMARY:Förstelärarnas dag
DESCRIPTION;ENCODING=QUOTED-PRINTABLE:
X-GWSHOW-AS:BUSY
TRANSP:OPAQUE
STATUS:CONFIRMED
LOCATION:JU-aulan
RESOURCES:
END:VEVENT
BEGIN:VEVENT
UID:11890
DTSTART:2025-04-07T10:00:00
DURATION:PT0H30M0S
DTSTAMP:20250227T102729
SUMMARY:Fika with MMTC guests from the University of Pretoria
DESCRIPTION;ENCODING=QUOTED-PRINTABLE:
X-GWSHOW-AS:BUSY
TRANSP:OPAQUE
STATUS:CONFIRMED
LOCATION:6th floor JIBS
RESOURCES:
END:VEVENT
BEGIN:VEVENT
UID:11936
DTSTART:2025-04-07T11:45:00
DURATION:PT1H0M0S
DTSTAMP:20250331T140822
SUMMARY:Brown Bag Seminar in Economics and Finance
DESCRIPTION;ENCODING=QUOTED-PRINTABLE:
X-GWSHOW-AS:BUSY
TRANSP:OPAQUE
STATUS:CONFIRMED
LOCATION:B5002
RESOURCES:
END:VEVENT
BEGIN:VEVENT
UID:11455
DTSTART:2025-04-07T13:00:00
DURATION:PT6H0M0S
DTSTAMP:20250228T095948
SUMMARY:JU DAY
DESCRIPTION;ENCODING=QUOTED-PRINTABLE:
X-GWSHOW-AS:BUSY
TRANSP:OPAQUE
STATUS:CONFIRMED
LOCATION:More info coming soon
RESOURCES:
END:VEVENT
BEGIN:VEVENT
UID:11820
DTSTART:2025-04-08T12:15:00
DURATION:PT0H45M0S
DTSTAMP:20250325T095538
SUMMARY:Personal branding
DESCRIPTION;ENCODING=QUOTED-PRINTABLE:
X-GWSHOW-AS:BUSY
TRANSP:OPAQUE
STATUS:CONFIRMED
LOCATION:E1405
RESOURCES:
END:VEVENT
BEGIN:VEVENT
UID:11790
DTSTART:2025-04-08T15:00:00
DURATION:PT1H30M0S
DTSTAMP:20241218T074955
SUMMARY:PUF Forskningskommunikation 
DESCRIPTION;ENCODING=QUOTED-PRINTABLE:
X-GWSHOW-AS:BUSY
TRANSP:OPAQUE
STATUS:CONFIRMED
LOCATION:Ha 208 
RESOURCES:
END:VEVENT
BEGIN:VEVENT
UID:11939
DTSTART:2025-04-08T15:00:00
DURATION:PT1H0M0S
DTSTAMP:20250408T080407
SUMMARY:PUF möte om forskningskommunikation 
DESCRIPTION;ENCODING=QUOTED-PRINTABLE:
X-GWSHOW-AS:BUSY
TRANSP:OPAQUE
STATUS:CONFIRMED
LOCATION:Ha 208
RESOURCES:
END:VEVENT
BEGIN:VEVENT
UID:11436
DTSTART:2025-04-09T00:00:00
DURATION:PT0H0M0S
DTSTAMP:20240905T094512
SUMMARY:10th Entrepreneurship-as-Practice Conference. 
DESCRIPTION;ENCODING=QUOTED-PRINTABLE:
X-GWSHOW-AS:BUSY
TRANSP:OPAQUE
STATUS:CONFIRMED
LOCATION:JIBS
RESOURCES:
END:VEVENT
BEGIN:VEVENT
UID:11836
DTSTART:2025-04-09T08:30:00
DURATION:PT5H30M0S
DTSTAMP:20250121T135208
SUMMARY:Welcome to JU introduction for new employees!
DESCRIPTION;ENCODING=QUOTED-PRINTABLE:
X-GWSHOW-AS:BUSY
TRANSP:OPAQUE
STATUS:CONFIRMED
LOCATION:Mariedal
RESOURCES:
END:VEVENT
BEGIN:VEVENT
UID:11652
DTSTART:2025-04-10T10:00:00
DURATION:PT6H0M0S
DTSTAMP:20250402T103149
SUMMARY:SPARK-konferensen 2025
DESCRIPTION;ENCODING=QUOTED-PRINTABLE:
X-GWSHOW-AS:BUSY
TRANSP:OPAQUE
STATUS:CONFIRMED
LOCATION:Tekniska Högskolan, Fagerhultsaulan entréplan
RESOURCES:
END:VEVENT
BEGIN:VEVENT
UID:11462
DTSTART:2025-04-10T12:05:00
DURATION:PT0H55M0S
DTSTAMP:20250403T111359
SUMMARY:Doctoral seminar: Power in Supervision
DESCRIPTION;ENCODING=QUOTED-PRINTABLE:
X-GWSHOW-AS:BUSY
TRANSP:OPAQUE
STATUS:CONFIRMED
LOCATION:Hc229 and Zoom
RESOURCES:
END:VEVENT
BEGIN:VEVENT
UID:11821
DTSTART:2025-04-10T12:15:00
DURATION:PT0H45M0S
DTSTAMP:20250404T092521
SUMMARY:Career Planning
DESCRIPTION;ENCODING=QUOTED-PRINTABLE:
X-GWSHOW-AS:BUSY
TRANSP:OPAQUE
STATUS:CONFIRMED
LOCATION:B1033
RESOURCES:
END:VEVENT
BEGIN:VEVENT
UID:11926
DTSTART:2025-04-10T15:30:00
DURATION:PT1H30M0S
DTSTAMP:20250321T123544
SUMMARY:Welcome to attend the unveiling of JU Solar Team's new solar car
DESCRIPTION;ENCODING=QUOTED-PRINTABLE:
X-GWSHOW-AS:BUSY
TRANSP:OPAQUE
STATUS:CONFIRMED
LOCATION:School of Engineering
RESOURCES:
END:VEVENT
BEGIN:VEVENT
UID:11871
DTSTART:2025-04-11T10:40:00
DURATION:PT13H20M0S
DTSTAMP:20250220T141230
SUMMARY:Research Proposal Seminiar by Gabriel Rodriguez Puello at JIBS
DESCRIPTION;ENCODING=QUOTED-PRINTABLE:
X-GWSHOW-AS:BUSY
TRANSP:OPAQUE
STATUS:CONFIRMED
LOCATION:B5002
RESOURCES:
END:VEVENT
BEGIN:VEVENT
UID:11929
DTSTART:2025-04-11T12:00:00
DURATION:PT1H0M0S
DTSTAMP:20250325T155230
SUMMARY:Wooclap training session
DESCRIPTION;ENCODING=QUOTED-PRINTABLE:
X-GWSHOW-AS:BUSY
TRANSP:OPAQUE
STATUS:CONFIRMED
LOCATION:
RESOURCES:
END:VEVENT
BEGIN:VEVENT
UID:11735
DTSTART:2025-04-14T10:15:00
DURATION:PT1H45M0S
DTSTAMP:20241127T095540
SUMMARY:Lärarutbildningskonferens för Grundlärarprogrammet och Ämneslärarprogrammet
DESCRIPTION;ENCODING=QUOTED-PRINTABLE:
X-GWSHOW-AS:BUSY
TRANSP:OPAQUE
STATUS:CONFIRMED
LOCATION:
RESOURCES:
END:VEVENT
BEGIN:VEVENT
UID:11830
DTSTART:2025-04-14T10:15:00
DURATION:PT1H45M0S
DTSTAMP:20250403T092817
SUMMARY:Lärarutbildningskonferens för Grundlärarprogrammet och Ämneslärarprogrammet
DESCRIPTION;ENCODING=QUOTED-PRINTABLE:
X-GWSHOW-AS:BUSY
TRANSP:OPAQUE
STATUS:CONFIRMED
LOCATION:Hb221
RESOURCES:
END:VEVENT
BEGIN:VEVENT
UID:11941
DTSTART:2025-04-14T10:15:00
DURATION:PT1H45M0S
DTSTAMP:20250409T113333
SUMMARY:Lärautbildningskonferens Förskollärarprogrammet
DESCRIPTION;ENCODING=QUOTED-PRINTABLE:
X-GWSHOW-AS:BUSY
TRANSP:OPAQUE
STATUS:CONFIRMED
LOCATION:Hc 114
RESOURCES:
END:VEVENT
BEGIN:VEVENT
UID:11940
DTSTART:2025-04-14T12:10:00
DURATION:PT1H0M0S
DTSTAMP:20250408T084934
SUMMARY:Brown Bag Seminar in Economics and Finance
DESCRIPTION;ENCODING=QUOTED-PRINTABLE:
X-GWSHOW-AS:BUSY
TRANSP:OPAQUE
STATUS:CONFIRMED
LOCATION:B5002
RESOURCES:
END:VEVENT
BEGIN:VEVENT
UID:11933
DTSTART:2025-04-14T16:00:00
DURATION:PT1H0M0S
DTSTAMP:20250328T134815
SUMMARY:Författarbesök med tema deckare
DESCRIPTION;ENCODING=QUOTED-PRINTABLE:
X-GWSHOW-AS:BUSY
TRANSP:OPAQUE
STATUS:CONFIRMED
LOCATION:JMW-salen, Högskolebiblioteket
RESOURCES:
END:VEVENT
BEGIN:VEVENT
UID:11891
DTSTART:2025-04-16T12:00:00
DURATION:PT1H0M0S
DTSTAMP:20250328T113219
SUMMARY:MMTC research Seminar presented by guest Giulia Gogiali
DESCRIPTION;ENCODING=QUOTED-PRINTABLE:
X-GWSHOW-AS:BUSY
TRANSP:OPAQUE
STATUS:CONFIRMED
LOCATION:B6046 and online
RESOURCES:
END:VEVENT
BEGIN:VEVENT
UID:11781
DTSTART:2025-04-22T15:00:00
DURATION:PT1H30M0S
DTSTAMP:20241216T111305
SUMMARY:PUF Doktorandpresentationer 
DESCRIPTION;ENCODING=QUOTED-PRINTABLE:
X-GWSHOW-AS:BUSY
TRANSP:OPAQUE
STATUS:CONFIRMED
LOCATION:Ha 208 
RESOURCES:
END:VEVENT
BEGIN:VEVENT
UID:11785
DTSTART:2025-04-22T15:00:00
DURATION:PT1H30M0S
DTSTAMP:20250416T154857
SUMMARY:PUF Doktorandpresentationer (hybrid)
DESCRIPTION;ENCODING=QUOTED-PRINTABLE:
X-GWSHOW-AS:BUSY
TRANSP:OPAQUE
STATUS:CONFIRMED
LOCATION:Ha 208 
RESOURCES:
END:VEVENT
BEGIN:VEVENT
UID:11892
DTSTART:2025-04-23T16:00:00
DURATION:PT2H0M0S
DTSTAMP:20250328T113149
SUMMARY:MMTC research Seminar presented by guests Miriam Bernhard and Jonas Weber
DESCRIPTION;ENCODING=QUOTED-PRINTABLE:
X-GWSHOW-AS:BUSY
TRANSP:OPAQUE
STATUS:CONFIRMED
LOCATION:B6046 and online
RESOURCES:
END:VEVENT
BEGIN:VEVENT
UID:11639
DTSTART:2025-04-24T09:00:00
DURATION:PT1H0M0S
DTSTAMP:20240920T102052
SUMMARY:Gemensamhetsfika
DESCRIPTION;ENCODING=QUOTED-PRINTABLE:
X-GWSHOW-AS:BUSY
TRANSP:OPAQUE
STATUS:CONFIRMED
LOCATION:Mat & Café Campus
RESOURCES:
END:VEVENT
BEGIN:VEVENT
UID:11923
DTSTART:2025-04-24T13:00:00
DURATION:PT1H0M0S
DTSTAMP:20250318T141456
SUMMARY:Docentföreläsning - Mikael Skillmark
DESCRIPTION;ENCODING=QUOTED-PRINTABLE:
X-GWSHOW-AS:BUSY
TRANSP:OPAQUE
STATUS:CONFIRMED
LOCATION:Ga334
RESOURCES:
END:VEVENT
BEGIN:VEVENT
UID:11832
DTSTART:2025-04-24T16:00:00
DURATION:PT1H0M0S
DTSTAMP:20250117T075311
SUMMARY:JU LIVE - Skapar synlig konsumtion bättre konsumenter?
DESCRIPTION;ENCODING=QUOTED-PRINTABLE:
X-GWSHOW-AS:BUSY
TRANSP:OPAQUE
STATUS:CONFIRMED
LOCATION:Högskolebiblioteket
RESOURCES:
END:VEVENT
BEGIN:VEVENT
UID:11702
DTSTART:2025-04-25T10:00:00
DURATION:PT5H0M0S
DTSTAMP:20250415T141023
SUMMARY: Doktorand och handledardag Hälsohögskolan
DESCRIPTION;ENCODING=QUOTED-PRINTABLE:
X-GWSHOW-AS:BUSY
TRANSP:OPAQUE
STATUS:CONFIRMED
LOCATION:Hälshögskolan
RESOURCES:
END:VEVENT
BEGIN:VEVENT
UID:11755
DTSTART:2025-04-25T13:00:00
DURATION:PT2H0M0S
DTSTAMP:20241209T102507
SUMMARY:Brainstorming Seminar
DESCRIPTION;ENCODING=QUOTED-PRINTABLE:
X-GWSHOW-AS:BUSY
TRANSP:OPAQUE
STATUS:CONFIRMED
LOCATION:Hc229 och Zoom
RESOURCES:
END:VEVENT
BEGIN:VEVENT
UID:11958
DTSTART:2025-04-28T12:00:00
DURATION:PT1H0M0S
DTSTAMP:20250416T142900
SUMMARY:Mötesplats Social Innovation - vetenskaplig seminarieserie för forskare och doktorander
DESCRIPTION;ENCODING=QUOTED-PRINTABLE:
X-GWSHOW-AS:BUSY
TRANSP:OPAQUE
STATUS:CONFIRMED
LOCATION:Online
RESOURCES:
END:VEVENT
BEGIN:VEVENT
UID:11959
DTSTART:2025-04-28T12:10:00
DURATION:PT1H0M0S
DTSTAMP:20250416T151800
SUMMARY:Brown Bag Seminar in Economics and Finance
DESCRIPTION;ENCODING=QUOTED-PRINTABLE:
X-GWSHOW-AS:BUSY
TRANSP:OPAQUE
STATUS:CONFIRMED
LOCATION:B5002
RESOURCES:
END:VEVENT
BEGIN:VEVENT
UID:11741
DTSTART:2025-04-28T13:15:00
DURATION:PT2H45M0S
DTSTAMP:20241203T090619
SUMMARY:Council of Undergraduate and Master Education (CUME)
DESCRIPTION;ENCODING=QUOTED-PRINTABLE:
X-GWSHOW-AS:BUSY
TRANSP:OPAQUE
STATUS:CONFIRMED
LOCATION:Contact Helena Holmström
RESOURCES:
END:VEVENT
BEGIN:VEVENT
UID:11938
DTSTART:2025-04-29T09:00:00
DURATION:PT0H30M0S
DTSTAMP:20250415T141455
SUMMARY:"Spikning" ceremony Johanna Falck
DESCRIPTION;ENCODING=QUOTED-PRINTABLE:
X-GWSHOW-AS:BUSY
TRANSP:OPAQUE
STATUS:CONFIRMED
LOCATION:
RESOURCES:
END:VEVENT
BEGIN:VEVENT
UID:11964
DTSTART:2025-04-30T10:00:00
DURATION:PT2H0M0S
DTSTAMP:20250429T120851
SUMMARY:Final Seminar by  Prince Chacko Johnson
DESCRIPTION;ENCODING=QUOTED-PRINTABLE:
X-GWSHOW-AS:BUSY
TRANSP:OPAQUE
STATUS:CONFIRMED
LOCATION:B7030, JIBS
RESOURCES:
END:VEVENT
BEGIN:VEVENT
UID:11946
DTSTART:2025-04-30T12:00:00
DURATION:PT0H45M0S
DTSTAMP:20250428T131037
SUMMARY:Spring Celebration
DESCRIPTION;ENCODING=QUOTED-PRINTABLE:
X-GWSHOW-AS:BUSY
TRANSP:OPAQUE
STATUS:CONFIRMED
LOCATION:Campus
RESOURCES:
END:VEVENT
END:VCALENDAR