BEGIN:VCALENDAR
VERSION:2.0
PRODID:-//HJ Kalendarium //hj.se/kalendarium
X-WR-CALDESC:Kalender från Högskolan i Jönköping
X-WR-CALNAME:HJ Kalendarium
X-WR-TIMEZONE:Europe/Stockholm
X-APPLE-CALENDAR-COLOR:#5BC2F4
CALSCALE:GREGORIAN
BEGIN:VTIMEZONE
TZID:Europe/Stockholm
BEGIN:DAYLIGHT
TZOFFSETFROM:+0100
RRULE:FREQ=YEARLY;BYMONTH=3;BYDAY=-1SU
DTSTART:19810329T020000
TZNAME:GMT+02:00
TZOFFSETTO:+0200
END:DAYLIGHT
BEGIN:STANDARD
TZOFFSETFROM:+0100
RRULE:FREQ=YEARLY;BYMONTH=10;BYDAY=-1SU
DTSTART:19961027T030000
TZNAME:GMT+01:00
TZOFFSETTO:+0100
END:STANDARD
END:VTIMEZONE
BEGIN:VEVENT
UID:11967
DTSTART:2025-05-05T12:10:00
DURATION:PT1H0M0S
DTSTAMP:20250428T164515
SUMMARY:Brown Bag Seminar in Economics and Finance
DESCRIPTION;ENCODING=QUOTED-PRINTABLE:
X-GWSHOW-AS:BUSY
TRANSP:OPAQUE
STATUS:CONFIRMED
LOCATION:B5002
RESOURCES:
END:VEVENT
BEGIN:VEVENT
UID:11727
DTSTART:2025-05-05T13:00:00
DURATION:PT2H0M0S
DTSTAMP:20250408T103412
SUMMARY:Forskningskonferens HLK
DESCRIPTION;ENCODING=QUOTED-PRINTABLE:
X-GWSHOW-AS:BUSY
TRANSP:OPAQUE
STATUS:CONFIRMED
LOCATION:Ha209
RESOURCES:
END:VEVENT
BEGIN:VEVENT
UID:11721
DTSTART:2025-05-07T10:00:00
DURATION:PT7H0M0S
DTSTAMP:20241129T143020
SUMMARY:Framkant Sverige
DESCRIPTION;ENCODING=QUOTED-PRINTABLE:
X-GWSHOW-AS:BUSY
TRANSP:OPAQUE
STATUS:CONFIRMED
LOCATION:
RESOURCES:
END:VEVENT
BEGIN:VEVENT
UID:11969
DTSTART:2025-05-07T15:00:00
DURATION:PT1H0M0S
DTSTAMP:20250507T083022
SUMMARY:Encellseminarium: Förhoppning, undran och ovisshet - om att vara elev med intellektuell funktionsnedsättning i SiS skolverksamheten
DESCRIPTION;ENCODING=QUOTED-PRINTABLE:
X-GWSHOW-AS:BUSY
TRANSP:OPAQUE
STATUS:CONFIRMED
LOCATION:Hc334 och Zoom
RESOURCES:
END:VEVENT
BEGIN:VEVENT
UID:11863
DTSTART:2025-05-07T16:00:00
DURATION:PT1H0M0S
DTSTAMP:20250317T152514
SUMMARY:Digital nätverksträff för forskning - Centrum för odontologi och oral hälsa
DESCRIPTION;ENCODING=QUOTED-PRINTABLE:
X-GWSHOW-AS:BUSY
TRANSP:OPAQUE
STATUS:CONFIRMED
LOCATION:Zoom
RESOURCES:
END:VEVENT
BEGIN:VEVENT
UID:11955
DTSTART:2025-05-08T10:00:00
DURATION:PT0H30M0S
DTSTAMP:20250415T142856
SUMMARY:"Spikning" ceremony Ann-Christin Björklund
DESCRIPTION;ENCODING=QUOTED-PRINTABLE:
X-GWSHOW-AS:BUSY
TRANSP:OPAQUE
STATUS:CONFIRMED
LOCATION:Röda Rummet
RESOURCES:
END:VEVENT
BEGIN:VEVENT
UID:11963
DTSTART:2025-05-12T13:15:00
DURATION:PT0H15M0S
DTSTAMP:20250429T132502
SUMMARY:Welcome to the Nailing Ceremony of Alireza Khoshghadam
DESCRIPTION;ENCODING=QUOTED-PRINTABLE:
X-GWSHOW-AS:BUSY
TRANSP:OPAQUE
STATUS:CONFIRMED
LOCATION:The second floor in the entrance hall of JIBS
RESOURCES:
END:VEVENT
BEGIN:VEVENT
UID:11947
DTSTART:2025-05-13T13:00:00
DURATION:PT3H0M0S
DTSTAMP:20250414T085208
SUMMARY:Research Seminar on AI in Education
DESCRIPTION;ENCODING=QUOTED-PRINTABLE:
X-GWSHOW-AS:BUSY
TRANSP:OPAQUE
STATUS:CONFIRMED
LOCATION:Hc114
RESOURCES:
END:VEVENT
BEGIN:VEVENT
UID:11935
DTSTART:2025-05-14T09:00:00
DURATION:PT3H0M0S
DTSTAMP:20250429T160443
SUMMARY:EULiST Online Workshop on Inclusive Mobility for Students with Disabilities, taking place on May 14th from 9:00-12:00 (CET).
DESCRIPTION;ENCODING=QUOTED-PRINTABLE:
X-GWSHOW-AS:BUSY
TRANSP:OPAQUE
STATUS:CONFIRMED
LOCATION:Online via Zoom - link will be sent out later
RESOURCES:
END:VEVENT
BEGIN:VEVENT
UID:11633
DTSTART:2025-05-14T09:15:00
DURATION:PT2H45M0S
DTSTAMP:20250507T135847
SUMMARY:Personalmöte 2, Hälsohögskolan
DESCRIPTION;ENCODING=QUOTED-PRINTABLE:
X-GWSHOW-AS:BUSY
TRANSP:OPAQUE
STATUS:CONFIRMED
LOCATION:Gb306 (Kurt Johansson-aulan)
RESOURCES:
END:VEVENT
BEGIN:VEVENT
UID:11893
DTSTART:2025-05-14T12:00:00
DURATION:PT1H0M0S
DTSTAMP:20250508T093920
SUMMARY:MMTC research Seminar presented by guest Cindy Price Shultz
DESCRIPTION;ENCODING=QUOTED-PRINTABLE:
X-GWSHOW-AS:BUSY
TRANSP:OPAQUE
STATUS:CONFIRMED
LOCATION:B6046 and online
RESOURCES:
END:VEVENT
BEGIN:VEVENT
UID:11833
DTSTART:2025-05-14T15:00:00
DURATION:PT1H30M0S
DTSTAMP:20250331T102305
SUMMARY:Samskapa-program is presenting on Co-Lab
DESCRIPTION;ENCODING=QUOTED-PRINTABLE:
X-GWSHOW-AS:BUSY
TRANSP:OPAQUE
STATUS:CONFIRMED
LOCATION:Zoom
RESOURCES:
END:VEVENT
BEGIN:VEVENT
UID:11975
DTSTART:2025-05-15T11:30:00
DURATION:PT1H30M0S
DTSTAMP:20250515T091212
SUMMARY:International Office pop-up
DESCRIPTION;ENCODING=QUOTED-PRINTABLE:
X-GWSHOW-AS:BUSY
TRANSP:OPAQUE
STATUS:CONFIRMED
LOCATION:Outside the library
RESOURCES:
END:VEVENT
BEGIN:VEVENT
UID:11463
DTSTART:2025-05-15T12:05:00
DURATION:PT0H55M0S
DTSTAMP:20250306T143606
SUMMARY:Doctoral seminar: Peer-review publishing? Editor&amp;#039;s perspective on peer-review publishing
DESCRIPTION;ENCODING=QUOTED-PRINTABLE:
X-GWSHOW-AS:BUSY
TRANSP:OPAQUE
STATUS:CONFIRMED
LOCATION:Hc229 and Zoom
RESOURCES:
END:VEVENT
BEGIN:VEVENT
UID:11968
DTSTART:2025-05-16T12:10:00
DURATION:PT0H50M0S
DTSTAMP:20250505T070840
SUMMARY:Lunchwebinarie - God forskningssed 2024 - vad är nytt?
DESCRIPTION;ENCODING=QUOTED-PRINTABLE:
X-GWSHOW-AS:BUSY
TRANSP:OPAQUE
STATUS:CONFIRMED
LOCATION:Zoom
RESOURCES:
END:VEVENT
BEGIN:VEVENT
UID:11756
DTSTART:2025-05-16T13:30:00
DURATION:PT1H30M0S
DTSTAMP:20250415T061238
SUMMARY:CCD seminar: Är skolan verkligen för alla?  - INSTÄLLT
DESCRIPTION;ENCODING=QUOTED-PRINTABLE:
X-GWSHOW-AS:BUSY
TRANSP:OPAQUE
STATUS:CONFIRMED
LOCATION:Zoom
RESOURCES:
END:VEVENT
BEGIN:VEVENT
UID:11985
DTSTART:2025-05-19T09:00:00
DURATION:PT2H0M0S
DTSTAMP:20250516T102528
SUMMARY:Licentiate Seminar - Alyaá Tabbah
DESCRIPTION;ENCODING=QUOTED-PRINTABLE:
X-GWSHOW-AS:BUSY
TRANSP:OPAQUE
STATUS:CONFIRMED
LOCATION:E1405 (Gjuterisalen)
RESOURCES:
END:VEVENT
BEGIN:VEVENT
UID:11980
DTSTART:2025-05-19T12:10:00
DURATION:PT1H0M0S
DTSTAMP:20250512T133359
SUMMARY:Brown Bag Seminar in Economics and Finance
DESCRIPTION;ENCODING=QUOTED-PRINTABLE:
X-GWSHOW-AS:BUSY
TRANSP:OPAQUE
STATUS:CONFIRMED
LOCATION:B5002
RESOURCES:
END:VEVENT
BEGIN:VEVENT
UID:11974
DTSTART:2025-05-20T10:00:00
DURATION:PT2H0M0S
DTSTAMP:20250508T082800
SUMMARY:EduCom-seminarium: Fostering inclusion: Migrants, action competence and social justice in the Citizen Engagement Lab
DESCRIPTION;ENCODING=QUOTED-PRINTABLE:
X-GWSHOW-AS:BUSY
TRANSP:OPAQUE
STATUS:CONFIRMED
LOCATION:Hb135 och Zoom
RESOURCES:
END:VEVENT
BEGIN:VEVENT
UID:11995
DTSTART:2025-05-20T11:45:00
DURATION:PT1H15M0S
DTSTAMP:20250520T093844
SUMMARY:Seminar with Professor Dean A. Shepherd the winner of the Global Entrepreneurship Award 2025
DESCRIPTION;ENCODING=QUOTED-PRINTABLE:
X-GWSHOW-AS:BUSY
TRANSP:OPAQUE
STATUS:CONFIRMED
LOCATION:B2009, Studion
RESOURCES:
END:VEVENT
BEGIN:VEVENT
UID:11879
DTSTART:2025-05-20T13:00:00
DURATION:PT2H0M0S
DTSTAMP:20250225T101437
SUMMARY:MKV meeting
DESCRIPTION;ENCODING=QUOTED-PRINTABLE:
X-GWSHOW-AS:BUSY
TRANSP:OPAQUE
STATUS:CONFIRMED
LOCATION:Hb135
RESOURCES:
END:VEVENT
BEGIN:VEVENT
UID:11984
DTSTART:2025-05-20T13:15:00
DURATION:PT0H0M0S
DTSTAMP:20250514T113911
SUMMARY:Final Seminar by Rida Ijaz
DESCRIPTION;ENCODING=QUOTED-PRINTABLE:
X-GWSHOW-AS:BUSY
TRANSP:OPAQUE
STATUS:CONFIRMED
LOCATION:B7030, JIBS
RESOURCES:
END:VEVENT
BEGIN:VEVENT
UID:11782
DTSTART:2025-05-20T15:00:00
DURATION:PT1H30M0S
DTSTAMP:20250508T090702
SUMMARY:PUF Textseminarium (hybrid)
DESCRIPTION;ENCODING=QUOTED-PRINTABLE:
X-GWSHOW-AS:BUSY
TRANSP:OPAQUE
STATUS:CONFIRMED
LOCATION:Ha 208 
RESOURCES:
END:VEVENT
BEGIN:VEVENT
UID:11786
DTSTART:2025-05-20T15:00:00
DURATION:PT1H30M0S
DTSTAMP:20241216T111926
SUMMARY:PUF Textseminarium (hybrid)
DESCRIPTION;ENCODING=QUOTED-PRINTABLE:
X-GWSHOW-AS:BUSY
TRANSP:OPAQUE
STATUS:CONFIRMED
LOCATION:Ha 208 
RESOURCES:
END:VEVENT
BEGIN:VEVENT
UID:11767
DTSTART:2025-05-21T13:15:00
DURATION:PT1H45M0S
DTSTAMP:20241212T082056
SUMMARY:Seminarium Tema våld
DESCRIPTION;ENCODING=QUOTED-PRINTABLE:
X-GWSHOW-AS:BUSY
TRANSP:OPAQUE
STATUS:CONFIRMED
LOCATION:Ga829, Ali Berggren
RESOURCES:
END:VEVENT
BEGIN:VEVENT
UID:11640
DTSTART:2025-05-22T09:00:00
DURATION:PT1H0M0S
DTSTAMP:20240920T102143
SUMMARY:Gemensamhetsfika
DESCRIPTION;ENCODING=QUOTED-PRINTABLE:
X-GWSHOW-AS:BUSY
TRANSP:OPAQUE
STATUS:CONFIRMED
LOCATION:Mat & Café Campus
RESOURCES:
END:VEVENT
BEGIN:VEVENT
UID:11961
DTSTART:2025-05-22T10:00:00
DURATION:PT1H0M0S
DTSTAMP:20250515T080243
SUMMARY:Docentföreläsning
DESCRIPTION;ENCODING=QUOTED-PRINTABLE:
X-GWSHOW-AS:BUSY
TRANSP:OPAQUE
STATUS:CONFIRMED
LOCATION:Forum Humanum
RESOURCES:
END:VEVENT
BEGIN:VEVENT
UID:11581
DTSTART:2025-05-23T09:00:00
DURATION:PT6H0M0S
DTSTAMP:20240827T110829
SUMMARY:Rektorsakademin Träff 5
DESCRIPTION;ENCODING=QUOTED-PRINTABLE:
X-GWSHOW-AS:BUSY
TRANSP:OPAQUE
STATUS:CONFIRMED
LOCATION:HLK
RESOURCES:
END:VEVENT
BEGIN:VEVENT
UID:11924
DTSTART:2025-05-23T09:00:00
DURATION:PT3H0M0S
DTSTAMP:20250429T131056
SUMMARY:Public defence: Johanna Falck (Health and Care Sciences)
DESCRIPTION;ENCODING=QUOTED-PRINTABLE:
X-GWSHOW-AS:BUSY
TRANSP:OPAQUE
STATUS:CONFIRMED
LOCATION:Forum Humanum
RESOURCES:
END:VEVENT
BEGIN:VEVENT
UID:11976
DTSTART:2025-05-23T09:30:00
DURATION:PT7H30M0S
DTSTAMP:20250511T162442
SUMMARY:Seminar Day - The Research School of Health and Welfare
DESCRIPTION;ENCODING=QUOTED-PRINTABLE:
X-GWSHOW-AS:BUSY
TRANSP:OPAQUE
STATUS:CONFIRMED
LOCATION:See schedule
RESOURCES:
END:VEVENT
BEGIN:VEVENT
UID:11665
DTSTART:2025-05-24T10:00:00
DURATION:PT3H0M0S
DTSTAMP:20241004T135937
SUMMARY:PrevJU förhandsvisning av Jönköping University
DESCRIPTION;ENCODING=QUOTED-PRINTABLE:
X-GWSHOW-AS:BUSY
TRANSP:OPAQUE
STATUS:CONFIRMED
LOCATION:Jönköping University
RESOURCES:
END:VEVENT
BEGIN:VEVENT
UID:11925
DTSTART:2025-05-26T13:00:00
DURATION:PT2H0M0S
DTSTAMP:20250325T140724
SUMMARY:Planeringsseminarium - Annie Sjöö
DESCRIPTION;ENCODING=QUOTED-PRINTABLE:
X-GWSHOW-AS:BUSY
TRANSP:OPAQUE
STATUS:CONFIRMED
LOCATION:Hb135 och Zoom
RESOURCES:
END:VEVENT
BEGIN:VEVENT
UID:11853
DTSTART:2025-05-27T13:00:00
DURATION:PT2H30M0S
DTSTAMP:20250205T104600
SUMMARY:The Final Thesis Fair at Campus Arena
DESCRIPTION;ENCODING=QUOTED-PRINTABLE:
X-GWSHOW-AS:BUSY
TRANSP:OPAQUE
STATUS:CONFIRMED
LOCATION:Campus Arena
RESOURCES:
END:VEVENT
BEGIN:VEVENT
UID:11945
DTSTART:2025-05-28T09:00:00
DURATION:PT3H0M0S
DTSTAMP:20250411T081710
SUMMARY:Make It Matter - Impact workshop for Researchers
DESCRIPTION;ENCODING=QUOTED-PRINTABLE:
X-GWSHOW-AS:BUSY
TRANSP:OPAQUE
STATUS:CONFIRMED
LOCATION:
RESOURCES:
END:VEVENT
BEGIN:VEVENT
UID:11977
DTSTART:2025-05-28T09:00:00
DURATION:PT8H0M0S
DTSTAMP:20250511T162555
SUMMARY:Seminar Day - The Research School of Health and Welfare
DESCRIPTION;ENCODING=QUOTED-PRINTABLE:
X-GWSHOW-AS:BUSY
TRANSP:OPAQUE
STATUS:CONFIRMED
LOCATION:See schedule
RESOURCES:
END:VEVENT
BEGIN:VEVENT
UID:11952
DTSTART:2025-05-28T11:30:00
DURATION:PT5H0M0S
DTSTAMP:20250415T132604
SUMMARY:Graduation Ceremony - the School of Engineering
DESCRIPTION;ENCODING=QUOTED-PRINTABLE:
X-GWSHOW-AS:BUSY
TRANSP:OPAQUE
STATUS:CONFIRMED
LOCATION:Jönköping Consert & Congress at Elmia
RESOURCES:
END:VEVENT
END:VCALENDAR