BEGIN:VCALENDAR
VERSION:2.0
PRODID:-//HJ Kalendarium //hj.se/kalendarium
X-WR-CALDESC:Kalender från Högskolan i Jönköping
X-WR-CALNAME:HJ Kalendarium
X-WR-TIMEZONE:Europe/Stockholm
X-APPLE-CALENDAR-COLOR:#5BC2F4
CALSCALE:GREGORIAN
BEGIN:VTIMEZONE
TZID:Europe/Stockholm
BEGIN:DAYLIGHT
TZOFFSETFROM:+0100
RRULE:FREQ=YEARLY;BYMONTH=3;BYDAY=-1SU
DTSTART:19810329T020000
TZNAME:GMT+02:00
TZOFFSETTO:+0200
END:DAYLIGHT
BEGIN:STANDARD
TZOFFSETFROM:+0100
RRULE:FREQ=YEARLY;BYMONTH=10;BYDAY=-1SU
DTSTART:19961027T030000
TZNAME:GMT+01:00
TZOFFSETTO:+0100
END:STANDARD
END:VTIMEZONE
BEGIN:VEVENT
UID:12430
DTSTART:2026-04-22T12:00:00
DURATION:PT1H0M0S
DTSTAMP:20260413T120032
SUMMARY:Nationell nätverksträff för forskarutbildning 2026
DESCRIPTION;ENCODING=QUOTED-PRINTABLE:
X-GWSHOW-AS:BUSY
TRANSP:OPAQUE
STATUS:CONFIRMED
LOCATION:Hc113 (HLK)
RESOURCES:
END:VEVENT
BEGIN:VEVENT
UID:12391
DTSTART:2026-04-23T16:00:00
DURATION:PT1H0M0S
DTSTAMP:20260226T081349
SUMMARY:JU LIVE - En värld utan människor - är AI-agenter på väg att ta över?
DESCRIPTION;ENCODING=QUOTED-PRINTABLE:
X-GWSHOW-AS:BUSY
TRANSP:OPAQUE
STATUS:CONFIRMED
LOCATION:Högskolebiblioteket
RESOURCES:
END:VEVENT
BEGIN:VEVENT
UID:12413
DTSTART:2026-04-24T09:00:00
DURATION:PT3H0M0S
DTSTAMP:20260325T142410
SUMMARY:Licentiate seminar - Abdullah Harazeen
DESCRIPTION;ENCODING=QUOTED-PRINTABLE:
X-GWSHOW-AS:BUSY
TRANSP:OPAQUE
STATUS:CONFIRMED
LOCATION:E1405 (Gjuterisalen)
RESOURCES:
END:VEVENT
BEGIN:VEVENT
UID:12433
DTSTART:2026-04-24T09:00:00
DURATION:PT4H0M0S
DTSTAMP:20260414T080501
SUMMARY:Dissertation Defence - Nils-Erik Ohlson
DESCRIPTION;ENCODING=QUOTED-PRINTABLE:
X-GWSHOW-AS:BUSY
TRANSP:OPAQUE
STATUS:CONFIRMED
LOCATION:B1014 JIBS
RESOURCES:
END:VEVENT
BEGIN:VEVENT
UID:12369
DTSTART:2026-04-24T13:00:00
DURATION:PT2H0M0S
DTSTAMP:20260203T111124
SUMMARY:PUF-seminarium
DESCRIPTION;ENCODING=QUOTED-PRINTABLE:
X-GWSHOW-AS:BUSY
TRANSP:OPAQUE
STATUS:CONFIRMED
LOCATION:Zoom
RESOURCES:
END:VEVENT
BEGIN:VEVENT
UID:12355
DTSTART:2026-04-28T12:15:00
DURATION:PT0H45M0S
DTSTAMP:20260226T151536
SUMMARY:Personal branding
DESCRIPTION;ENCODING=QUOTED-PRINTABLE:
X-GWSHOW-AS:BUSY
TRANSP:OPAQUE
STATUS:CONFIRMED
LOCATION:E1029
RESOURCES:
END:VEVENT
BEGIN:VEVENT
UID:12426
DTSTART:2026-04-28T14:00:00
DURATION:PT1H0M0S
DTSTAMP:20260408T191314
SUMMARY:Info meeting STINT Teaching Sabbatical
DESCRIPTION;ENCODING=QUOTED-PRINTABLE:
X-GWSHOW-AS:BUSY
TRANSP:OPAQUE
STATUS:CONFIRMED
LOCATION:Ka2060 Osaka (building K) or via Zoom 
RESOURCES:
END:VEVENT
BEGIN:VEVENT
UID:12416
DTSTART:2026-04-29T00:00:00
DURATION:PT0H0M0S
DTSTAMP:20260327T160648
SUMMARY:Digital imprints: Three perspectives on the impact of technology on people, work, and places
DESCRIPTION;ENCODING=QUOTED-PRINTABLE:
X-GWSHOW-AS:BUSY
TRANSP:OPAQUE
STATUS:CONFIRMED
LOCATION:University Library
RESOURCES:
END:VEVENT
BEGIN:VEVENT
UID:12356
DTSTART:2026-04-29T12:15:00
DURATION:PT0H45M0S
DTSTAMP:20260130T132253
SUMMARY:Career Planning
DESCRIPTION;ENCODING=QUOTED-PRINTABLE:
X-GWSHOW-AS:BUSY
TRANSP:OPAQUE
STATUS:CONFIRMED
LOCATION:E1405
RESOURCES:
END:VEVENT
BEGIN:VEVENT
UID:12431
DTSTART:2026-04-29T13:00:00
DURATION:PT2H0M0S
DTSTAMP:20260413T133734
SUMMARY:Slutseminarium - Richard Lindberg
DESCRIPTION;ENCODING=QUOTED-PRINTABLE:
X-GWSHOW-AS:BUSY
TRANSP:OPAQUE
STATUS:CONFIRMED
LOCATION:Hc229
RESOURCES:
END:VEVENT
BEGIN:VEVENT
UID:12274
DTSTART:2026-04-29T13:15:00
DURATION:PT2H45M0S
DTSTAMP:20251205T083516
SUMMARY:Council of Undergraduate and Master Education (CUME)
DESCRIPTION;ENCODING=QUOTED-PRINTABLE:
X-GWSHOW-AS:BUSY
TRANSP:OPAQUE
STATUS:CONFIRMED
LOCATION:B7030
RESOURCES:
END:VEVENT
BEGIN:VEVENT
UID:12422
DTSTART:2026-04-29T14:00:00
DURATION:PT3H0M0S
DTSTAMP:20260407T082125
SUMMARY:JIBS Entrepreneurship Challenge Grand Final 2026
DESCRIPTION;ENCODING=QUOTED-PRINTABLE:
X-GWSHOW-AS:BUSY
TRANSP:OPAQUE
STATUS:CONFIRMED
LOCATION:B1024, Jönköping International Business School
RESOURCES:
END:VEVENT
BEGIN:VEVENT
UID:12402
DTSTART:2026-04-30T12:00:00
DURATION:PT0H45M0S
DTSTAMP:20260309T132519
SUMMARY:Spring Celebration
DESCRIPTION;ENCODING=QUOTED-PRINTABLE:
X-GWSHOW-AS:BUSY
TRANSP:OPAQUE
STATUS:CONFIRMED
LOCATION:Campus
RESOURCES:
END:VEVENT
BEGIN:VEVENT
UID:12249
DTSTART:2026-05-04T08:30:00
DURATION:PT1H0M0S
DTSTAMP:20251110T144712
SUMMARY:MMTC breakfast meeting
DESCRIPTION;ENCODING=QUOTED-PRINTABLE:
X-GWSHOW-AS:BUSY
TRANSP:OPAQUE
STATUS:CONFIRMED
LOCATION:6th floor JIBS
RESOURCES:
END:VEVENT
BEGIN:VEVENT
UID:12213
DTSTART:2026-05-04T13:00:00
DURATION:PT2H0M0S
DTSTAMP:20251023T142823
SUMMARY:Forskningskonferens HLK
DESCRIPTION;ENCODING=QUOTED-PRINTABLE:
X-GWSHOW-AS:BUSY
TRANSP:OPAQUE
STATUS:CONFIRMED
LOCATION:Ha209
RESOURCES:
END:VEVENT
BEGIN:VEVENT
UID:12275
DTSTART:2026-05-04T13:15:00
DURATION:PT2H45M0S
DTSTAMP:20251205T082523
SUMMARY:Council of Undergraduate and Master Education (CUME)
DESCRIPTION;ENCODING=QUOTED-PRINTABLE:
X-GWSHOW-AS:BUSY
TRANSP:OPAQUE
STATUS:CONFIRMED
LOCATION:B7030
RESOURCES:
END:VEVENT
BEGIN:VEVENT
UID:12435
DTSTART:2026-05-06T12:00:00
DURATION:PT1H0M0S
DTSTAMP:20260415T102717
SUMMARY:MMTC research Seminar presented by Daniel de los Rios Pérez
DESCRIPTION;ENCODING=QUOTED-PRINTABLE:
X-GWSHOW-AS:BUSY
TRANSP:OPAQUE
STATUS:CONFIRMED
LOCATION:B6046 and online
RESOURCES:
END:VEVENT
BEGIN:VEVENT
UID:12305
DTSTART:2026-05-07T12:05:00
DURATION:PT0H55M0S
DTSTAMP:20251219T105625
SUMMARY:Doktorandseminarium: Det blev som det blev, när det var som det var
DESCRIPTION;ENCODING=QUOTED-PRINTABLE:
X-GWSHOW-AS:BUSY
TRANSP:OPAQUE
STATUS:CONFIRMED
LOCATION:Hc229 och Zoom
RESOURCES:
END:VEVENT
BEGIN:VEVENT
UID:12330
DTSTART:2026-05-07T13:00:00
DURATION:PT2H0M0S
DTSTAMP:20260121T224540
SUMMARY:Open Seminar: How Do We Create a Sustainable Working Life? Part of the School of Health and Welfare?s Competence and Career Development Programme
DESCRIPTION;ENCODING=QUOTED-PRINTABLE:
X-GWSHOW-AS:BUSY
TRANSP:OPAQUE
STATUS:CONFIRMED
LOCATION:Forum Humanum
RESOURCES:
END:VEVENT
BEGIN:VEVENT
UID:12421
DTSTART:2026-05-11T09:30:00
DURATION:PT0H30M0S
DTSTAMP:20260401T121220
SUMMARY:Pinning ceremony
DESCRIPTION;ENCODING=QUOTED-PRINTABLE:
X-GWSHOW-AS:BUSY
TRANSP:OPAQUE
STATUS:CONFIRMED
LOCATION:
RESOURCES:
END:VEVENT
BEGIN:VEVENT
UID:12208
DTSTART:2026-05-11T14:15:00
DURATION:PT0H45M0S
DTSTAMP:20251023T095054
SUMMARY:Forskningsråd
DESCRIPTION;ENCODING=QUOTED-PRINTABLE:
X-GWSHOW-AS:BUSY
TRANSP:OPAQUE
STATUS:CONFIRMED
LOCATION:Teams
RESOURCES:
END:VEVENT
BEGIN:VEVENT
UID:12290
DTSTART:2026-05-11T15:00:00
DURATION:PT1H30M0S
DTSTAMP:20251208T083451
SUMMARY:Tema Promotion och Prevention
DESCRIPTION;ENCODING=QUOTED-PRINTABLE:
X-GWSHOW-AS:BUSY
TRANSP:OPAQUE
STATUS:CONFIRMED
LOCATION:Ga829, Ali Berggren
RESOURCES:
END:VEVENT
BEGIN:VEVENT
UID:12425
DTSTART:2026-05-13T10:00:00
DURATION:PT0H30M0S
DTSTAMP:20260408T164354
SUMMARY:Notification of thesis, Fanny Kårelind (Health and Care Sciences)
DESCRIPTION;ENCODING=QUOTED-PRINTABLE:
X-GWSHOW-AS:BUSY
TRANSP:OPAQUE
STATUS:CONFIRMED
LOCATION:
RESOURCES:
END:VEVENT
BEGIN:VEVENT
UID:12299
DTSTART:2026-05-13T13:15:00
DURATION:PT1H30M0S
DTSTAMP:20260415T101757
SUMMARY:MMTCs Data Methods Initiative seminar 
DESCRIPTION;ENCODING=QUOTED-PRINTABLE:
X-GWSHOW-AS:BUSY
TRANSP:OPAQUE
STATUS:CONFIRMED
LOCATION:Online-contact for zoom link
RESOURCES:
END:VEVENT
BEGIN:VEVENT
UID:12406
DTSTART:2026-05-13T15:00:00
DURATION:PT2H0M0S
DTSTAMP:20260316T134208
SUMMARY:Halvtidsseminarium - Nevena Pantelic
DESCRIPTION;ENCODING=QUOTED-PRINTABLE:
X-GWSHOW-AS:BUSY
TRANSP:OPAQUE
STATUS:CONFIRMED
LOCATION:Hc334
RESOURCES:
END:VEVENT
BEGIN:VEVENT
UID:12428
DTSTART:2026-05-18T08:30:00
DURATION:PT3H30M0S
DTSTAMP:20260409T163223
SUMMARY:JIBS Teacher Certification Seminar
DESCRIPTION;ENCODING=QUOTED-PRINTABLE:
X-GWSHOW-AS:BUSY
TRANSP:OPAQUE
STATUS:CONFIRMED
LOCATION:Contact Helena Holmström for more info
RESOURCES:
END:VEVENT
BEGIN:VEVENT
UID:12436
DTSTART:2026-05-18T12:00:00
DURATION:PT1H0M0S
DTSTAMP:20260421T132351
SUMMARY:CeFEO Webinar: PLACE - JU Students' Establishment in Jönköpings län
DESCRIPTION;ENCODING=QUOTED-PRINTABLE:
X-GWSHOW-AS:BUSY
TRANSP:OPAQUE
STATUS:CONFIRMED
LOCATION:Zoom
RESOURCES:
END:VEVENT
BEGIN:VEVENT
UID:12197
DTSTART:2026-05-20T09:00:00
DURATION:PT1H0M0S
DTSTAMP:20260318T095935
SUMMARY:Hälsohögskolans gemensamhetsfika
DESCRIPTION;ENCODING=QUOTED-PRINTABLE:
X-GWSHOW-AS:BUSY
TRANSP:OPAQUE
STATUS:CONFIRMED
LOCATION:Café Mat och Campus
RESOURCES:
END:VEVENT
BEGIN:VEVENT
UID:12243
DTSTART:2026-05-20T12:00:00
DURATION:PT1H0M0S
DTSTAMP:20260415T115133
SUMMARY:MMTC research Seminar presented by guest Monica Porzionato
DESCRIPTION;ENCODING=QUOTED-PRINTABLE:
X-GWSHOW-AS:BUSY
TRANSP:OPAQUE
STATUS:CONFIRMED
LOCATION:B6046 and online
RESOURCES:
END:VEVENT
BEGIN:VEVENT
UID:12411
DTSTART:2026-05-21T10:00:00
DURATION:PT5H0M0S
DTSTAMP:20260325T104442
SUMMARY:AI i industrin - idag och i morgon
DESCRIPTION;ENCODING=QUOTED-PRINTABLE:
X-GWSHOW-AS:BUSY
TRANSP:OPAQUE
STATUS:CONFIRMED
LOCATION:Tvetasalen HC113 (entréplan), HLK
RESOURCES:
END:VEVENT
BEGIN:VEVENT
UID:12429
DTSTART:2026-05-21T10:00:00
DURATION:PT5H0M0S
DTSTAMP:20260410T140609
SUMMARY:Inspirationsdag: AI i industrin - idag och i morgon
DESCRIPTION;ENCODING=QUOTED-PRINTABLE:
X-GWSHOW-AS:BUSY
TRANSP:OPAQUE
STATUS:CONFIRMED
LOCATION:Jönköping University
RESOURCES:
END:VEVENT
BEGIN:VEVENT
UID:12415
DTSTART:2026-05-21T12:00:00
DURATION:PT0H45M0S
DTSTAMP:20260326T112759
SUMMARY:WEBINARIUM - Demens mitt i livet 
DESCRIPTION;ENCODING=QUOTED-PRINTABLE:
X-GWSHOW-AS:BUSY
TRANSP:OPAQUE
STATUS:CONFIRMED
LOCATION:Digitalt via zoom
RESOURCES:
END:VEVENT
BEGIN:VEVENT
UID:12378
DTSTART:2026-05-22T15:00:00
DURATION:PT0H30M0S
DTSTAMP:20260206T125707
SUMMARY:Spikning - Björn Bradling
DESCRIPTION;ENCODING=QUOTED-PRINTABLE:
X-GWSHOW-AS:BUSY
TRANSP:OPAQUE
STATUS:CONFIRMED
LOCATION:Plan 3, HLK
RESOURCES:
END:VEVENT
BEGIN:VEVENT
UID:12437
DTSTART:2026-05-22T15:00:00
DURATION:PT2H0M0S
DTSTAMP:20260423T143126
SUMMARY:PrevJU förhandsvisning på Campus Värnamo
DESCRIPTION;ENCODING=QUOTED-PRINTABLE:
X-GWSHOW-AS:BUSY
TRANSP:OPAQUE
STATUS:CONFIRMED
LOCATION:Campus Värnamo
RESOURCES:
END:VEVENT
BEGIN:VEVENT
UID:12405
DTSTART:2026-05-26T08:00:00
DURATION:PT7H0M0S
DTSTAMP:20260310T165604
SUMMARY:Futures Day
DESCRIPTION;ENCODING=QUOTED-PRINTABLE:
X-GWSHOW-AS:BUSY
TRANSP:OPAQUE
STATUS:CONFIRMED
LOCATION:HLK
RESOURCES:
END:VEVENT
BEGIN:VEVENT
UID:12201
DTSTART:2026-05-27T09:30:00
DURATION:PT2H30M0S
DTSTAMP:20251021T154934
SUMMARY:Personalmöte 2, Hälsohögskolan
DESCRIPTION;ENCODING=QUOTED-PRINTABLE:
X-GWSHOW-AS:BUSY
TRANSP:OPAQUE
STATUS:CONFIRMED
LOCATION:Forum Humanum
RESOURCES:
END:VEVENT
BEGIN:VEVENT
UID:12427
DTSTART:2026-05-29T00:00:00
DURATION:PT0H0M0S
DTSTAMP:20260409T145946
SUMMARY:Xjobfair at the School of Engineering
DESCRIPTION;ENCODING=QUOTED-PRINTABLE:
X-GWSHOW-AS:BUSY
TRANSP:OPAQUE
STATUS:CONFIRMED
LOCATION:School of Engineering
RESOURCES:
END:VEVENT
BEGIN:VEVENT
UID:12127
DTSTART:2026-05-30T10:00:00
DURATION:PT3H0M0S
DTSTAMP:20250916T084421
SUMMARY:PrevJU - en förhandsvisning för dig som sökt en utbildning på JU
DESCRIPTION;ENCODING=QUOTED-PRINTABLE:
X-GWSHOW-AS:BUSY
TRANSP:OPAQUE
STATUS:CONFIRMED
LOCATION:Jönköping University
RESOURCES:
END:VEVENT
BEGIN:VEVENT
UID:12250
DTSTART:2026-06-01T08:30:00
DURATION:PT1H0M0S
DTSTAMP:20251110T144802
SUMMARY:MMTC breakfast meeting
DESCRIPTION;ENCODING=QUOTED-PRINTABLE:
X-GWSHOW-AS:BUSY
TRANSP:OPAQUE
STATUS:CONFIRMED
LOCATION:6th floor JIBS
RESOURCES:
END:VEVENT
BEGIN:VEVENT
UID:12232
DTSTART:2026-06-03T13:15:00
DURATION:PT1H30M0S
DTSTAMP:20251110T142550
SUMMARY:MMTC's Data Methods Initiative seminar 
DESCRIPTION;ENCODING=QUOTED-PRINTABLE:
X-GWSHOW-AS:BUSY
TRANSP:OPAQUE
STATUS:CONFIRMED
LOCATION:Online-contact for zoom link
RESOURCES:
END:VEVENT
BEGIN:VEVENT
UID:12254
DTSTART:2026-06-05T10:00:00
DURATION:PT6H40M0S
DTSTAMP:20260317T125910
SUMMARY:Closing ceremony HLK
DESCRIPTION;ENCODING=QUOTED-PRINTABLE:
X-GWSHOW-AS:BUSY
TRANSP:OPAQUE
STATUS:CONFIRMED
LOCATION:
RESOURCES:
END:VEVENT
BEGIN:VEVENT
UID:12392
DTSTART:2026-06-05T10:00:00
DURATION:PT5H0M0S
DTSTAMP:20260226T144557
SUMMARY:Hälsohögskolans akademiska avslutning
DESCRIPTION;ENCODING=QUOTED-PRINTABLE:
X-GWSHOW-AS:BUSY
TRANSP:OPAQUE
STATUS:CONFIRMED
LOCATION:Pingstkyrkan
RESOURCES:
END:VEVENT
BEGIN:VEVENT
UID:12424
DTSTART:2026-06-05T10:00:00
DURATION:PT3H0M0S
DTSTAMP:20260408T163147
SUMMARY:Public defence Fanny Kårelind (Health and care sciences)
DESCRIPTION;ENCODING=QUOTED-PRINTABLE:
X-GWSHOW-AS:BUSY
TRANSP:OPAQUE
STATUS:CONFIRMED
LOCATION:Forum Humanum
RESOURCES:
END:VEVENT
BEGIN:VEVENT
UID:12013
DTSTART:2026-06-06T00:00:00
DURATION:PT0H0M0S
DTSTAMP:20250616T130439
SUMMARY:JIBS Graduation 2026
DESCRIPTION;ENCODING=QUOTED-PRINTABLE:
X-GWSHOW-AS:BUSY
TRANSP:OPAQUE
STATUS:CONFIRMED
LOCATION:
RESOURCES:
END:VEVENT
BEGIN:VEVENT
UID:12198
DTSTART:2026-06-10T09:00:00
DURATION:PT1H0M0S
DTSTAMP:20260304T130557
SUMMARY:Hälsohögskolans gemensamhetsfika
DESCRIPTION;ENCODING=QUOTED-PRINTABLE:
X-GWSHOW-AS:BUSY
TRANSP:OPAQUE
STATUS:CONFIRMED
LOCATION:Café Mat och Campus
RESOURCES:
END:VEVENT
BEGIN:VEVENT
UID:12245
DTSTART:2026-06-10T12:00:00
DURATION:PT1H0M0S
DTSTAMP:20251110T144242
SUMMARY:MMTC research Seminar 
DESCRIPTION;ENCODING=QUOTED-PRINTABLE:
X-GWSHOW-AS:BUSY
TRANSP:OPAQUE
STATUS:CONFIRMED
LOCATION:B6046 and online
RESOURCES:
END:VEVENT
BEGIN:VEVENT
UID:12276
DTSTART:2026-06-10T13:15:00
DURATION:PT2H45M0S
DTSTAMP:20251205T083158
SUMMARY:Council of Undergraduate and Master Education (CUME)
DESCRIPTION;ENCODING=QUOTED-PRINTABLE:
X-GWSHOW-AS:BUSY
TRANSP:OPAQUE
STATUS:CONFIRMED
LOCATION:B7030
RESOURCES:
END:VEVENT
BEGIN:VEVENT
UID:12168
DTSTART:2026-06-11T09:00:00
DURATION:PT3H0M0S
DTSTAMP:20251013T080018
SUMMARY:HLK-dag
DESCRIPTION;ENCODING=QUOTED-PRINTABLE:
X-GWSHOW-AS:BUSY
TRANSP:OPAQUE
STATUS:CONFIRMED
LOCATION:Hc218
RESOURCES:
END:VEVENT
BEGIN:VEVENT
UID:12186
DTSTART:2026-06-11T12:05:00
DURATION:PT0H55M0S
DTSTAMP:20251017T112235
SUMMARY:Doktorandseminarium: Designforskning och skolutvecklande forskning
DESCRIPTION;ENCODING=QUOTED-PRINTABLE:
X-GWSHOW-AS:BUSY
TRANSP:OPAQUE
STATUS:CONFIRMED
LOCATION:Hc229 och Zoom
RESOURCES:
END:VEVENT
BEGIN:VEVENT
UID:12370
DTSTART:2026-06-12T13:00:00
DURATION:PT2H0M0S
DTSTAMP:20260203T105607
SUMMARY:PUF-seminarium
DESCRIPTION;ENCODING=QUOTED-PRINTABLE:
X-GWSHOW-AS:BUSY
TRANSP:OPAQUE
STATUS:CONFIRMED
LOCATION:Zoom
RESOURCES:
END:VEVENT
BEGIN:VEVENT
UID:12377
DTSTART:2026-06-16T10:00:00
DURATION:PT2H0M0S
DTSTAMP:20260206T125535
SUMMARY:Disputation - Björn Bradling
DESCRIPTION;ENCODING=QUOTED-PRINTABLE:
X-GWSHOW-AS:BUSY
TRANSP:OPAQUE
STATUS:CONFIRMED
LOCATION:Hc218, HLK
RESOURCES:
END:VEVENT
BEGIN:VEVENT
UID:12209
DTSTART:2026-08-17T14:15:00
DURATION:PT0H45M0S
DTSTAMP:20251023T095129
SUMMARY:Forskningsråd
DESCRIPTION;ENCODING=QUOTED-PRINTABLE:
X-GWSHOW-AS:BUSY
TRANSP:OPAQUE
STATUS:CONFIRMED
LOCATION:Teams
RESOURCES:
END:VEVENT
BEGIN:VEVENT
UID:12193
DTSTART:2026-08-19T08:00:00
DURATION:PT8H0M0S
DTSTAMP:20251021T100555
SUMMARY:Invigning Hälsohögskolans akademiska läsår 2026-2027
DESCRIPTION;ENCODING=QUOTED-PRINTABLE:
X-GWSHOW-AS:BUSY
TRANSP:OPAQUE
STATUS:CONFIRMED
LOCATION:Gb306 (Kurt Johansson-aulan)
RESOURCES:
END:VEVENT
BEGIN:VEVENT
UID:12169
DTSTART:2026-08-20T09:00:00
DURATION:PT3H0M0S
DTSTAMP:20251013T080238
SUMMARY:HLK-dag
DESCRIPTION;ENCODING=QUOTED-PRINTABLE:
X-GWSHOW-AS:BUSY
TRANSP:OPAQUE
STATUS:CONFIRMED
LOCATION:Hc218
RESOURCES:
END:VEVENT
BEGIN:VEVENT
UID:12409
DTSTART:2026-08-22T13:00:00
DURATION:PT2H0M0S
DTSTAMP:20260318T164806
SUMMARY:Pride parade
DESCRIPTION;ENCODING=QUOTED-PRINTABLE:
X-GWSHOW-AS:BUSY
TRANSP:OPAQUE
STATUS:CONFIRMED
LOCATION:
RESOURCES:
END:VEVENT
BEGIN:VEVENT
UID:12098
DTSTART:2026-08-24T13:00:00
DURATION:PT2H0M0S
DTSTAMP:20250902T105346
SUMMARY:MKV meeting
DESCRIPTION;ENCODING=QUOTED-PRINTABLE:
X-GWSHOW-AS:BUSY
TRANSP:OPAQUE
STATUS:CONFIRMED
LOCATION:Hb135
RESOURCES:
END:VEVENT
BEGIN:VEVENT
UID:12287
DTSTART:2026-09-02T13:15:00
DURATION:PT2H45M0S
DTSTAMP:20251205T084421
SUMMARY:Council of Undergraduate and Master Education (CUME)
DESCRIPTION;ENCODING=QUOTED-PRINTABLE:
X-GWSHOW-AS:BUSY
TRANSP:OPAQUE
STATUS:CONFIRMED
LOCATION:
RESOURCES:
END:VEVENT
BEGIN:VEVENT
UID:12210
DTSTART:2026-09-14T14:15:00
DURATION:PT1H15M0S
DTSTAMP:20251023T095159
SUMMARY:Forskningsråd
DESCRIPTION;ENCODING=QUOTED-PRINTABLE:
X-GWSHOW-AS:BUSY
TRANSP:OPAQUE
STATUS:CONFIRMED
LOCATION:Ha208
RESOURCES:
END:VEVENT
BEGIN:VEVENT
UID:12099
DTSTART:2026-10-05T13:00:00
DURATION:PT2H0M0S
DTSTAMP:20250902T105422
SUMMARY:MKV meeting
DESCRIPTION;ENCODING=QUOTED-PRINTABLE:
X-GWSHOW-AS:BUSY
TRANSP:OPAQUE
STATUS:CONFIRMED
LOCATION:Hb135
RESOURCES:
END:VEVENT
BEGIN:VEVENT
UID:12214
DTSTART:2026-10-05T13:00:00
DURATION:PT2H0M0S
DTSTAMP:20251023T142853
SUMMARY:Forskningskonferens HLK
DESCRIPTION;ENCODING=QUOTED-PRINTABLE:
X-GWSHOW-AS:BUSY
TRANSP:OPAQUE
STATUS:CONFIRMED
LOCATION:Ha209
RESOURCES:
END:VEVENT
BEGIN:VEVENT
UID:12277
DTSTART:2026-10-07T00:00:00
DURATION:PT0H0M0S
DTSTAMP:20251203T165733
SUMMARY:Council of Undergraduate and Master Education (CUME)
DESCRIPTION;ENCODING=QUOTED-PRINTABLE:
X-GWSHOW-AS:BUSY
TRANSP:OPAQUE
STATUS:CONFIRMED
LOCATION:TBD
RESOURCES:
END:VEVENT
BEGIN:VEVENT
UID:12278
DTSTART:2026-10-08T00:00:00
DURATION:PT0H0M0S
DTSTAMP:20251203T170106
SUMMARY:Council of Undergraduate and Master Education (CUME)
DESCRIPTION;ENCODING=QUOTED-PRINTABLE:
X-GWSHOW-AS:BUSY
TRANSP:OPAQUE
STATUS:CONFIRMED
LOCATION:TBD
RESOURCES:
END:VEVENT
BEGIN:VEVENT
UID:12100
DTSTART:2026-10-12T13:00:00
DURATION:PT3H0M0S
DTSTAMP:20250902T105512
SUMMARY:MKV workshop
DESCRIPTION;ENCODING=QUOTED-PRINTABLE:
X-GWSHOW-AS:BUSY
TRANSP:OPAQUE
STATUS:CONFIRMED
LOCATION:Hb135
RESOURCES:
END:VEVENT
BEGIN:VEVENT
UID:12211
DTSTART:2026-10-19T14:15:00
DURATION:PT0H45M0S
DTSTAMP:20251023T095228
SUMMARY:Forskningsråd
DESCRIPTION;ENCODING=QUOTED-PRINTABLE:
X-GWSHOW-AS:BUSY
TRANSP:OPAQUE
STATUS:CONFIRMED
LOCATION:Teams
RESOURCES:
END:VEVENT
BEGIN:VEVENT
UID:12202
DTSTART:2026-10-21T09:00:00
DURATION:PT3H0M0S
DTSTAMP:20251021T155106
SUMMARY:Personalmöte 3, Hälsohögskolan
DESCRIPTION;ENCODING=QUOTED-PRINTABLE:
X-GWSHOW-AS:BUSY
TRANSP:OPAQUE
STATUS:CONFIRMED
LOCATION:Forum Humanum
RESOURCES:
END:VEVENT
BEGIN:VEVENT
UID:12142
DTSTART:2026-11-03T08:00:00
DURATION:PT8H0M0S
DTSTAMP:20251105T105316
SUMMARY:Tioårsjubilerande konferensen Forskningsbaserad undervisning
DESCRIPTION;ENCODING=QUOTED-PRINTABLE:
X-GWSHOW-AS:BUSY
TRANSP:OPAQUE
STATUS:CONFIRMED
LOCATION:HLK
RESOURCES:
END:VEVENT
BEGIN:VEVENT
UID:12279
DTSTART:2026-11-04T00:00:00
DURATION:PT0H0M0S
DTSTAMP:20251203T165927
SUMMARY:Council of Undergraduate and Master Education (CUME)
DESCRIPTION;ENCODING=QUOTED-PRINTABLE:
X-GWSHOW-AS:BUSY
TRANSP:OPAQUE
STATUS:CONFIRMED
LOCATION:TBD
RESOURCES:
END:VEVENT
BEGIN:VEVENT
UID:12170
DTSTART:2026-11-05T09:00:00
DURATION:PT3H0M0S
DTSTAMP:20251013T080812
SUMMARY:HLK-dag
DESCRIPTION;ENCODING=QUOTED-PRINTABLE:
X-GWSHOW-AS:BUSY
TRANSP:OPAQUE
STATUS:CONFIRMED
LOCATION:Hc218
RESOURCES:
END:VEVENT
BEGIN:VEVENT
UID:12372
DTSTART:2026-11-20T00:00:00
DURATION:PT0H0M0S
DTSTAMP:20260204T085542
SUMMARY:Welcome to the Swedish Conference in Economics 2026
DESCRIPTION;ENCODING=QUOTED-PRINTABLE:
X-GWSHOW-AS:BUSY
TRANSP:OPAQUE
STATUS:CONFIRMED
LOCATION:Jönköping International Business School, Jönköping
RESOURCES:
END:VEVENT
BEGIN:VEVENT
UID:12212
DTSTART:2026-11-23T14:15:00
DURATION:PT1H15M0S
DTSTAMP:20251023T095256
SUMMARY:Forskningsråd
DESCRIPTION;ENCODING=QUOTED-PRINTABLE:
X-GWSHOW-AS:BUSY
TRANSP:OPAQUE
STATUS:CONFIRMED
LOCATION:Ha208
RESOURCES:
END:VEVENT
BEGIN:VEVENT
UID:12101
DTSTART:2026-12-07T13:00:00
DURATION:PT2H0M0S
DTSTAMP:20250902T105548
SUMMARY:MKV meeting
DESCRIPTION;ENCODING=QUOTED-PRINTABLE:
X-GWSHOW-AS:BUSY
TRANSP:OPAQUE
STATUS:CONFIRMED
LOCATION:Hb135
RESOURCES:
END:VEVENT
BEGIN:VEVENT
UID:12280
DTSTART:2026-12-09T00:00:00
DURATION:PT0H0M0S
DTSTAMP:20251203T170005
SUMMARY:Council of Undergraduate and Master Education (CUME)
DESCRIPTION;ENCODING=QUOTED-PRINTABLE:
X-GWSHOW-AS:BUSY
TRANSP:OPAQUE
STATUS:CONFIRMED
LOCATION:TBD
RESOURCES:
END:VEVENT
BEGIN:VEVENT
UID:12203
DTSTART:2026-12-16T09:00:00
DURATION:PT3H0M0S
DTSTAMP:20251021T155216
SUMMARY:Personalmöte 4, Hälsohögskolan
DESCRIPTION;ENCODING=QUOTED-PRINTABLE:
X-GWSHOW-AS:BUSY
TRANSP:OPAQUE
STATUS:CONFIRMED
LOCATION:Forum Humanum
RESOURCES:
END:VEVENT
BEGIN:VEVENT
UID:12171
DTSTART:2026-12-17T11:30:00
DURATION:PT2H0M0S
DTSTAMP:20251024T133930
SUMMARY:HLK jullunch
DESCRIPTION;ENCODING=QUOTED-PRINTABLE:
X-GWSHOW-AS:BUSY
TRANSP:OPAQUE
STATUS:CONFIRMED
LOCATION:Ha108/Orangeriet
RESOURCES:
END:VEVENT
END:VCALENDAR